BEGIN:VCALENDAR
VERSION:2.0
PRODID:-//ChamberMaster//Event Calendar 2.0//EN
METHOD:PUBLISH
X-PUBLISHED-TTL:P3D
REFRESH-INTERVAL:P3D
CALSCALE:GREGORIAN
BEGIN:VEVENT
DTSTART:20140418T223000Z
DTEND:20140418T223000Z
X-MICROSOFT-CDO-ALLDAYEVENT:FALSE
SUMMARY:Kirtan with Chuck Foster and Friends
DESCRIPTION:The Gloucester based Kirtan Group "Chuck Foster and Friends" are leading Kirtan at your 222 Arts & Wellness Center this Friday starting at 6:30.  It will be a Kirtan with both rocking and sublime Bhajans\, so come share your spirit and voice with us all as we connect with the divine energy of chanting and welcome in the beauty of Spring.
X-ALT-DESC;FMTTYPE=text/html:The Gloucester based Kirtan Group "Chuck Foster and Friends" are leading Kirtan at your 222 Arts & Wellness Center this Friday starting at 6:30.  It will be a Kirtan with both rocking and sublime Bhajans\, so come share your spirit and voice with us all as we connect with the divine energy of chanting and welcome in the beauty of Spring.
LOCATION:222 Eastern Avenue\, Gloucester\, MA 01930 222 Arts & Wellness Center\, 222 Eastern Avenue\, Gloucester...(rte. 127 and Eastern Ave. are the same road at that point.) We are located just past "Paws at Play" on the same side of the road. Plenty of on site parking. We will be serving some light refreshments afterwards for those of us who would like to visit and catch up.
UID:e.2981.1286
SEQUENCE:3
DTSTAMP:20260419T201625Z
URL:https://visit.rockportusa.com/events/details/kirtan-with-chuck-foster-and-friends-04-18-2014-1286
END:VEVENT

END:VCALENDAR
