BEGIN:VCALENDAR
VERSION:2.0
PRODID:-//ChamberMaster//Event Calendar 2.0//EN
METHOD:PUBLISH
X-PUBLISHED-TTL:P3D
REFRESH-INTERVAL:P3D
CALSCALE:GREGORIAN
BEGIN:VEVENT
DTSTART:20140228T000000Z
DTEND:20140228T000000Z
X-MICROSOFT-CDO-ALLDAYEVENT:FALSE
SUMMARY:Keiko Matsui
DESCRIPTION:The National Theatre's original stage production of War Horse\, broadcast live from London's West End to cinemas.\n\nSince its first performance at the National Theatre in 2007\, War Horse has become an international smash hit\, capturing the imagination of four million people around the world.\n\nBased on Michael Morpurgo's novel and adapted for the stage by Nick Stafford\, War Horse takes audiences on an extraordinary journey from the fields of rural Devon to the trenches of First World War France. Filled with stirring music and songs\, this powerfully moving and imaginative drama is a show of phenomenal inventiveness. At its heart are astonishing life-size puppets by South Africa's Handspring Puppet Company\, who bring breathing\, galloping\, charging horses to thrilling life on stage. \n\nTickets for NTE Live: $22/$15 Students & Seniors\, $5 Youth
X-ALT-DESC;FMTTYPE=text/html:The National Theatre's original stage production of War Horse\, broadcast live from London's West End to cinemas.\n\nSince its first performance at the National Theatre in 2007\, War Horse has become an international smash hit\, capturing the imagination of four million people around the world.\n\nBased on Michael Morpurgo's novel and adapted for the stage by Nick Stafford\, War Horse takes audiences on an extraordinary journey from the fields of rural Devon to the trenches of First World War France. Filled with stirring music and songs\, this powerfully moving and imaginative drama is a show of phenomenal inventiveness. At its heart are astonishing life-size puppets by South Africa's Handspring Puppet Company\, who bring breathing\, galloping\, charging horses to thrilling life on stage. \n\nTickets for NTE Live: $22/$15 Students & Seniors\, $5 Youth\n
LOCATION:37 Main Street\, Rockport\, Ma 01966 Shalin Liu Performance Center 37 Main Street Rockport\, MA 01966 DIRECTIONS Travelling by Car Rockport is 45 miles from downtown Boston. Drive north on Route 128 (through two rotaries) to the traffic light in Gloucester. At the traffic light\, turn left onto Route 127. Drive 4 miles to Rockport. Continue through “Five Corners” onto Route 127A (Broadway) toward the harbor. It’s a slight vere to the right. At the stop sign at Mt. Pleasant Street (lighthouse in median)\, turn left and then bear left onto Main Street. The Shalin Liu Performance Center is on the right at 37 Main Street. Travelling by Train Rockport is accessible by commuter rail from Boston and other Northshore towns. The commuter rail originates from North Station on the Green line in Boston. The train station is ½ mile walk to the concert hall.
UID:e.2981.1126
SEQUENCE:3
DTSTAMP:20260420T004352Z
URL:https://visit.rockportusa.com/events/details/keiko-matsui-02-27-2014-1126
END:VEVENT

END:VCALENDAR
