BEGIN:VCALENDAR
VERSION:2.0
PRODID:-//ChamberMaster//Event Calendar 2.0//EN
METHOD:PUBLISH
X-PUBLISHED-TTL:P3D
REFRESH-INTERVAL:P3D
CALSCALE:GREGORIAN
BEGIN:VEVENT
DTSTART:20140620T000000Z
DTEND:20140620T000000Z
X-MICROSOFT-CDO-ALLDAYEVENT:FALSE
SUMMARY:Joyce Yang\, piano
DESCRIPTION:Returning to the Festival after dazzling audiences last year in her substitute performance for Dubravka Tomšic\, pianist Joyce Yang is a 2010 Avery Fisher Career Grant recipient and won the silver medal at the Van Cliburn International Piano Competition (as the youngest contestant).  Tickets: $68/$58/$49
X-ALT-DESC;FMTTYPE=text/html:Returning to the Festival after dazzling audiences last year in her substitute performance for Dubravka Tomšic\, pianist Joyce Yang is a 2010 Avery Fisher Career Grant recipient and won the silver medal at the Van Cliburn International Piano Competition (as the youngest contestant).  Tickets: $68/$58/$49
LOCATION:Shalin Liu Performance Center\, Rockport\, Ma 01966
UID:e.2981.1264
SEQUENCE:3
DTSTAMP:20260419T162604Z
URL:https://visit.rockportusa.com/events/details/joyce-yang-piano-06-19-2014-1264
END:VEVENT

END:VCALENDAR
