BEGIN:VCALENDAR
VERSION:2.0
PRODID:-//ChamberMaster//Event Calendar 2.0//EN
METHOD:PUBLISH
X-PUBLISHED-TTL:P3D
REFRESH-INTERVAL:P3D
CALSCALE:GREGORIAN
BEGIN:VEVENT
DTSTART:20140520T160000Z
DTEND:20140520T220000Z
X-MICROSOFT-CDO-ALLDAYEVENT:FALSE
SUMMARY:JOB FAIR
DESCRIPTION:JOB FAIR	\nFOR Certified Home Health Aids\; C. N. A.' s \;Nursing Students\nGloucester & Cape Ann Area Work\nWHEN   May 20th\, Tuesday 12 pm – 6 pm\nWHERE:  Cape Ann Savings Bank Community Room\n123 Main Street 2nd floor\, Gloucester \n(next to Kids Unlimited)
X-ALT-DESC;FMTTYPE=text/html:JOB FAIR	\nFOR Certified Home Health Aids\; C. N. A.' s \;Nursing Students\nGloucester & Cape Ann Area Work\nWHEN   May 20th\, Tuesday 12 pm – 6 pm\nWHERE:  Cape Ann Savings Bank Community Room\n123 Main Street 2nd floor\, Gloucester \n(next to Kids Unlimited)\n
LOCATION:123 Main Street \, Gloucester \, ma 01930 Cape Ann Savings Bank Community Room 123 Main Street 2nd floor\, Gloucester (next to Kids Unlimited)
UID:e.2981.1313
SEQUENCE:3
DTSTAMP:20260419T181738Z
URL:https://visit.rockportusa.com/events/details/job-fair-05-20-2014-1313
END:VEVENT

END:VCALENDAR
