BEGIN:VCALENDAR
VERSION:2.0
PRODID:-//ChamberMaster//Event Calendar 2.0//EN
METHOD:PUBLISH
X-PUBLISHED-TTL:P3D
REFRESH-INTERVAL:P3D
CALSCALE:GREGORIAN
BEGIN:VEVENT
DTSTART:20140115T220000Z
DTEND:20140116T000000Z
X-MICROSOFT-CDO-ALLDAYEVENT:FALSE
SUMMARY:January Business After Hours
DESCRIPTION:Please note: For member pricing\, please login using your username and password.Want to network and make new connections? Do you want to grow your business through referrals? Attend our Business After Hours to mix and mingle with members in a relaxed atmosphere and learn to master the art of networking!     Make new professional connections\n   Gain valuable leads and potential new customers\n   Find suppliers and service providers\n   Access agencies and entities to help your business\n   Meet people with purchasing power within their organizationsBusiness After Hours is the place for business professionals to come together to grow their network and their business by sharing contacts\, referrals and ideas.
X-ALT-DESC;FMTTYPE=text/html:<p>Please note: For member pricing\, please login using your username and password.</p><p>Want to network and make new connections? Do you want to grow your business through referrals? Attend our Business After Hours to mix and mingle with members in a relaxed atmosphere and learn to master the art of networking!&nbsp\; </p><p>&bull\;&nbsp\; Make new professional connections<br />&bull\;&nbsp\; Gain valuable leads and potential new customers<br />&bull\;&nbsp\; Find suppliers and service providers<br />&bull\;&nbsp\; Access agencies and entities to help your business<br />&bull\;&nbsp\; Meet people with purchasing power within their organizations</p><p>Business After Hours is the place for business professionals to come together to grow their network and their business by sharing contacts\, referrals and ideas. </p><p></p>
LOCATION:Mamie's Kitchen 65 Pleasant Street\, Gloucester\, MA 01930
UID:e.2981.1164
SEQUENCE:3
DTSTAMP:20260420T023556Z
URL:https://visit.rockportusa.com/events/details/january-business-after-hours-01-15-2014-1164
END:VEVENT

END:VCALENDAR
