BEGIN:VCALENDAR
VERSION:2.0
PRODID:-//ChamberMaster//Event Calendar 2.0//EN
METHOD:PUBLISH
X-PUBLISHED-TTL:P3D
REFRESH-INTERVAL:P3D
CALSCALE:GREGORIAN
BEGIN:VEVENT
DTSTART:20140713T210000Z
DTEND:20140713T210000Z
X-MICROSOFT-CDO-ALLDAYEVENT:FALSE
SUMMARY:Imani Winds
DESCRIPTION:The Grammy-nominated Imani Winds will perform Stravinsky's Rite of Spring in an original and jaw-dropping arrangement for wind quintet along with original music and transcriptions of favorites that have made them North America's premier wind quintet.  Tickets: $58/$48/$39
X-ALT-DESC;FMTTYPE=text/html:The Grammy-nominated Imani Winds will perform Stravinsky's Rite of Spring in an original and jaw-dropping arrangement for wind quintet along with original music and transcriptions of favorites that have made them North America's premier wind quintet.  Tickets: $58/$48/$39
LOCATION:Shalin Liu Performance Center\, Rockport\, Ma 01966
UID:e.2981.1276
SEQUENCE:3
DTSTAMP:20260419T143943Z
URL:https://visit.rockportusa.com/events/details/imani-winds-07-13-2014-1276
END:VEVENT

END:VCALENDAR
