BEGIN:VCALENDAR
VERSION:2.0
PRODID:-//ChamberMaster//Event Calendar 2.0//EN
METHOD:PUBLISH
X-PUBLISHED-TTL:P3D
REFRESH-INTERVAL:P3D
CALSCALE:GREGORIAN
BEGIN:VEVENT
DTSTART:20130928T153000Z
DTEND:20130928T170000Z
X-MICROSOFT-CDO-ALLDAYEVENT:FALSE
SUMMARY:Ice Skating Class Registration
DESCRIPTION:Come learn about the Cape Ann Skating Club!  Members will be on hand to answer questions and take sign ups. Skaters will be demonstrating both private and group instruction.  Classes are available Saturdays at noon and Tuesdays at 6pm.  Special classes for tots starting at age 2 1/2 make learning to skate fun with toys and games.  Other classes for boys and girls of all ages\, advanced figure skaters\, hockey skating skills and Adults.
X-ALT-DESC;FMTTYPE=text/html:Come learn about the Cape Ann Skating Club!  Members will be on hand to answer questions and take sign ups. Skaters will be demonstrating both private and group instruction.  Classes are available Saturdays at noon and Tuesdays at 6pm.  Special classes for tots starting at age 2 1/2 make learning to skate fun with toys and games.  Other classes for boys and girls of all ages\, advanced figure skaters\, hockey skating skills and Adults. 
LOCATION:32 Cherry st\, Gloucester\, Ma 01935 Dorothy Talbot Rink
UID:e.2981.1120
SEQUENCE:3
DTSTAMP:20260420T073419Z
URL:https://visit.rockportusa.com/events/details/ice-skating-class-registration-09-28-2013-1120
END:VEVENT

END:VCALENDAR
