BEGIN:VCALENDAR
VERSION:2.0
PRODID:-//ChamberMaster//Event Calendar 2.0//EN
METHOD:PUBLISH
X-PUBLISHED-TTL:P3D
REFRESH-INTERVAL:P3D
CALSCALE:GREGORIAN
BEGIN:VEVENT
DTSTART:20140803T210000Z
DTEND:20140803T210000Z
X-MICROSOFT-CDO-ALLDAYEVENT:FALSE
SUMMARY:Hot Club of San Francisco
DESCRIPTION:Inspired by the original Hot Club de France that featured gypsy guitar legend Django Reinhardt and iconic swing violinist Stephane Grappelli\, Hot Club of San Francisco pays sparkling tribute to pre-war gypsy jazz.  Anchored by guitarist/bandleader Paul Mehling\, Hot Club of San Francisco are vanguards of the ongoing gypsy swing revival. tickets: $467/$38/$28
X-ALT-DESC;FMTTYPE=text/html:Inspired by the original Hot Club de France that featured gypsy guitar legend Django Reinhardt and iconic swing violinist Stephane Grappelli\, Hot Club of San Francisco pays sparkling tribute to pre-war gypsy jazz.  Anchored by guitarist/bandleader Paul Mehling\, Hot Club of San Francisco are vanguards of the ongoing gypsy swing revival. tickets: $467/$38/$28
LOCATION:Shalin Liu Performance Center\, Rockport\, Ma 01966
UID:e.2981.1251
SEQUENCE:3
DTSTAMP:20260419T144651Z
URL:https://visit.rockportusa.com/events/details/hot-club-of-san-francisco-08-03-2014-1251
END:VEVENT

END:VCALENDAR
