BEGIN:VCALENDAR
VERSION:2.0
PRODID:-//ChamberMaster//Event Calendar 2.0//EN
METHOD:PUBLISH
X-PUBLISHED-TTL:P3D
REFRESH-INTERVAL:P3D
CALSCALE:GREGORIAN
BEGIN:VEVENT
DTSTART:20130830T200000Z
DTEND:20130830T200000Z
X-MICROSOFT-CDO-ALLDAYEVENT:FALSE
SUMMARY:Home: The Inaugural Exhibition
DESCRIPTION:Home: The Inaugural Exhibition features 39 works of art by twelve artists representing the excellence and variety of contemporary fine art on Cape Ann: Albert Alcalay\, Winston Swift Boyer\, Charlie Carroll\, Susan Erony\, Dennis Flavin\, Pamela Ellis Hawkes\, Zygmund Jankowski\, Ruth Mordecai\, Eileen Mueller\, Joe Poirier\, Patti Sullivan\, and Lynn Swigart.\n\nTrident Gallery is at 189 Main Street\, Gloucester.  Gallery hours are Wednesday-Friday   Saturday 10am-7pm\; Monday\, Tuesday and any time by appointment.  Trident Gallery will be open 10am-5pm on Columbus Day (Monday\, October 14th). Consult tridentgallery.com or contact Gallery Director Matthew Swift at 978-491-7785 or director@tridentgallery.com for further information.
X-ALT-DESC;FMTTYPE=text/html:Home: The Inaugural Exhibition features 39 works of art by twelve artists representing the excellence and variety of contemporary fine art on Cape Ann: Albert Alcalay\, Winston Swift Boyer\, Charlie Carroll\, Susan Erony\, Dennis Flavin\, Pamela Ellis Hawkes\, Zygmund Jankowski\, Ruth Mordecai\, Eileen Mueller\, Joe Poirier\, Patti Sullivan\, and Lynn Swigart.\n\nTrident Gallery is at 189 Main Street\, Gloucester.  Gallery hours are Wednesday-Friday & Sunday 10am-5pm\; Saturday 10am-7pm\; Monday\, Tuesday and any time by appointment.  Trident Gallery will be open 10am-5pm on Columbus Day (Monday\, October 14th). Consult tridentgallery.com or contact Gallery Director Matthew Swift at 978-491-7785 or director@tridentgallery.com for further information.
LOCATION:189 Main Street\, Gloucester\, MA 01930 At the corner of Duncan/Pleasant and Main Streets\, downtown Gloucester.
UID:e.2981.1130
SEQUENCE:3
DTSTAMP:20260420T091121Z
URL:https://visit.rockportusa.com/events/details/home-the-inaugural-exhibition-08-30-2013-1130
END:VEVENT

END:VCALENDAR
