BEGIN:VCALENDAR
VERSION:2.0
PRODID:-//ChamberMaster//Event Calendar 2.0//EN
METHOD:PUBLISH
X-PUBLISHED-TTL:P3D
REFRESH-INTERVAL:P3D
CALSCALE:GREGORIAN
BEGIN:VEVENT
DTSTART:20140726T000000Z
DTEND:20140726T000000Z
X-MICROSOFT-CDO-ALLDAYEVENT:FALSE
SUMMARY:Heritage Blues
DESCRIPTION:Bursting on the blues scene in 2011\, the Heritage Blues Quintet immediately shook the roots music world upside down with their Grammy-nominated debut record And Still I Rise. Anchored by blues veteran Bill Sims Jr.\, guitarist Junior Mack and singer Chaney Sims\, Heritage Blues aims to unearth and revitalize blues\, gospel and New Orleans jazz music for the 21st century.  Tickets: $46/$38/$28
X-ALT-DESC;FMTTYPE=text/html:Bursting on the blues scene in 2011\, the Heritage Blues Quintet immediately shook the roots music world upside down with their Grammy-nominated debut record And Still I Rise. Anchored by blues veteran Bill Sims Jr.\, guitarist Junior Mack and singer Chaney Sims\, Heritage Blues aims to unearth and revitalize blues\, gospel and New Orleans jazz music for the 21st century.  Tickets: $46/$38/$28
LOCATION:Shalin Liu Performance Center\, Rockport\, Ma 01966
UID:e.2981.1237
SEQUENCE:3
DTSTAMP:20260419T143819Z
URL:https://visit.rockportusa.com/events/details/heritage-blues-07-25-2014-1237
END:VEVENT

END:VCALENDAR
