BEGIN:VCALENDAR
VERSION:2.0
PRODID:-//ChamberMaster//Event Calendar 2.0//EN
METHOD:PUBLISH
X-PUBLISHED-TTL:P3D
REFRESH-INTERVAL:P3D
CALSCALE:GREGORIAN
BEGIN:VEVENT
DTSTART:20140712T210000Z
DTEND:20140712T230000Z
X-MICROSOFT-CDO-ALLDAYEVENT:FALSE
SUMMARY:''Harbortown 2014'' Artists' Reception at Trident Gallery
DESCRIPTION:Trident Gallery is pleased to host an Artists' Reception for "Harbortown 2014" on Saturday\, July 12 from 5pm to 7pm during the first Downtown Gloucester Art Walk.
X-ALT-DESC;FMTTYPE=text/html:Trident Gallery is pleased to host an Artists' Reception for "Harbortown 2014" on Saturday\, July 12 from 5pm to 7pm during the first Downtown Gloucester Art Walk.
LOCATION:189 Main Street\, Gloucester\, MA 01930 Trident Gallery is in downtown Gloucester\, Massachusetts\, on Main Street at the corner of Duncan Street (which becomes Pleasant Street as it crosses Main).
UID:e.2981.1403
SEQUENCE:3
DTSTAMP:20260419T144235Z
URL:https://visit.rockportusa.com/events/details/harbortown-2014-artists-reception-at-trident-gallery-07-12-2014-1403
END:VEVENT

END:VCALENDAR
