BEGIN:VCALENDAR
VERSION:2.0
PRODID:-//ChamberMaster//Event Calendar 2.0//EN
METHOD:PUBLISH
X-PUBLISHED-TTL:P3D
REFRESH-INTERVAL:P3D
CALSCALE:GREGORIAN
BEGIN:VEVENT
DTSTART:20130911T140000Z
DTEND:20130929T190000Z
X-MICROSOFT-CDO-ALLDAYEVENT:FALSE
SUMMARY:Grand Houses and Gracious Living\, Manchester During the Gilded Age
DESCRIPTION:Starting in the late 1880's and continuing through the end of the First World War\, wealthy families from as near as Boston\, and as far as St. Louis\, Chicago and New York City\, discovered Manchester and began to purchase property and build far from modest "summer cottages." Our exhibit provides a close look at just a few of the more than forty such cottages that were built during this period.\nIn addition\, you will get a glimpse of one of the Gilded Age's most famous summer resort hotels\, the Masconomo House\, and meet some of the locals who catered to the needs of the wealthy summer residents.\nTues - Wed 10:00a.m. - 3:00p.m.
X-ALT-DESC;FMTTYPE=text/html:Starting in the late 1880's and continuing through the end of the First World War\, wealthy families from as near as Boston\, and as far as St. Louis\, Chicago and New York City\, discovered Manchester and began to purchase property and build far from modest "summer cottages." Our exhibit provides a close look at just a few of the more than forty such cottages that were built during this period.\nIn addition\, you will get a glimpse of one of the Gilded Age's most famous summer resort hotels\, the Masconomo House\, and meet some of the locals who catered to the needs of the wealthy summer residents.\nTues - Wed 10:00a.m. - 3:00p.m.
LOCATION:10 Union Street\, Manchester\, MA 01944 Manchester Historical Museum
UID:e.2981.1054
SEQUENCE:3
DTSTAMP:20260420T074701Z
URL:https://visit.rockportusa.com/events/details/grand-houses-and-gracious-living-manchester-during-the-gilded-age-09-11-2013-1054
END:VEVENT

END:VCALENDAR
