BEGIN:VCALENDAR
VERSION:2.0
PRODID:-//ChamberMaster//Event Calendar 2.0//EN
METHOD:PUBLISH
X-PUBLISHED-TTL:P3D
REFRESH-INTERVAL:P3D
CALSCALE:GREGORIAN
BEGIN:VEVENT
DTSTART:20140801T000000Z
DTEND:20140801T000000Z
X-MICROSOFT-CDO-ALLDAYEVENT:FALSE
SUMMARY:Grace Kelly
DESCRIPTION:Though only 21\, jazz wunderkind Grace Kelly has already hit more creative and commercial milestones than most established veterans. The Los Angeles by-way-of-Brookline saxophonist has created a sound and style heady enough to satisfy hard-core jazz fans while also providing enough pop and groove flair to appeal to a wider audience.
X-ALT-DESC;FMTTYPE=text/html: Though only 21\, jazz wunderkind Grace Kelly has already hit more creative and commercial milestones than most established veterans. The Los Angeles by-way-of-Brookline saxophonist has created a sound and style heady enough to satisfy hard-core jazz fans while also providing enough pop and groove flair to appeal to a wider audience. 
LOCATION:37 Main Street\, Rockport\, MA 01966 Shalin Liu Performance Center
UID:e.2981.1318
SEQUENCE:3
DTSTAMP:20260419T144055Z
URL:https://visit.rockportusa.com/events/details/grace-kelly-07-31-2014-1318
END:VEVENT

END:VCALENDAR
