BEGIN:VCALENDAR
VERSION:2.0
PRODID:-//ChamberMaster//Event Calendar 2.0//EN
METHOD:PUBLISH
X-PUBLISHED-TTL:P3D
REFRESH-INTERVAL:P3D
CALSCALE:GREGORIAN
BEGIN:VEVENT
DTSTART:20140419T230000Z
DTEND:20140419T230000Z
X-MICROSOFT-CDO-ALLDAYEVENT:FALSE
SUMMARY:((Gong)) Meditation Concert w/ The Conduit
DESCRIPTION:We are so delighted to have "the Conduit" back at the center.  You will not want to miss this.  Ancient Himalayan Singing bowls\, Planetary gongs\, aromatherapy and other tools are used to transport you far\, far away from your busy day.  Lay on our heated cork yoga floor on a mat\, with a pillow and blanket and let the gong's calming song envelope your body in a targeted way to wash away\, to clean or to clear.  You just ride the wave of sound as the gongs and bells provide a sonic mind-body massage.  Please call 978-852-6228 to reserve your spot on the floor!
X-ALT-DESC;FMTTYPE=text/html:We are so delighted to have "the Conduit" back at the center.  You will not want to miss this.  Ancient Himalayan Singing bowls\, Planetary gongs\, aromatherapy and other tools are used to transport you far\, far away from your busy day.  Lay on our heated cork yoga floor on a mat\, with a pillow and blanket and let the gong's calming song envelope your body in a targeted way to wash away\, to clean or to clear.  You just ride the wave of sound as the gongs and bells provide a sonic mind-body massage.  Please call 978-852-6228 to reserve your spot on the floor!
LOCATION:222 Eastern Avenue\, Gloucester\, MA 01930 222 Arts & Wellness Center\, 222 Eastern Avenue\, Gloucester...(rte. 127 and Eastern Ave. are the same road at that point.) We are located just past "Paws at Play" on the same side of the road. Plenty of on site parking. We will be serving some light refreshments afterwards for those of us who would like to visit and catch up.
UID:e.2981.1288
SEQUENCE:3
DTSTAMP:20260419T200215Z
URL:https://visit.rockportusa.com/events/details/gong-meditation-concert-w-the-conduit-04-19-2014-1288
END:VEVENT

END:VCALENDAR
