BEGIN:VCALENDAR
VERSION:2.0
PRODID:-//ChamberMaster//Event Calendar 2.0//EN
METHOD:PUBLISH
X-PUBLISHED-TTL:P3D
REFRESH-INTERVAL:P3D
CALSCALE:GREGORIAN
BEGIN:VEVENT
DTSTART:20140816T130000Z
DTEND:20140817T220000Z
X-MICROSOFT-CDO-ALLDAYEVENT:FALSE
SUMMARY:Gloucester Waterfront Festival
DESCRIPTION:AUGUST 16 & 17\, 2014\nThe 34th Annual Gloucester Waterfront Festival        takes place at Stage Fort Park\, Hough Ave\, Gloucester\, MA on \nAugust 16 & 17\, from 9am to 6pm daily.\nFeaturing 175 Booths of American made arts\, crafts\, food and live music.Pancake breakfast and Antique Car Show complete this picture perfect seaside New England event.\nFree Admission ~ Rain or Shine\nDirections: From Route 128 take Exit 14 and follow signs to Gloucester's Stage Fort ParkFor more details visit www.castleberryfairs.com34th Annual Gloucester Waterfront FestivalStage Fort Park\, Gloucester\, MassachusettsAugust 16 & 17\, 2014\n9am to 6pm Dai lyFree Admission ~ Rain or Shine\nContact Information:Cape Ann Chamber of Commerce (978) 283-1601\nwww.capeannvacations.com\nWaterfront Festivals (603) 332-2616\nwww.castleberryfairs.com\nSchedule of Events\nSaturday\, August 16\n7:30am to 10:30am Rotary Club's Pancake Breakfast9:00am Waterfront Fest ival Opens: Arts\, Crafts\, Food Booths9:00am to 12 Noon Bob Sabourin Jazz in the Air - Food Court Tent12:00pm to 2:30pm Ryan McHugh - Food Court Tent12:00pm to 3:00pm Performance Art - TBD1:00pm to 4:00pm Performance Art - Ops the Cyclops2:30pm - t il l 5:30pm Honky Tonk Women of Gloucester - Food Court Tent\nSunday\, August 17\n9:00am Waterfront Fest ival Opens: Arts\, Crafts\, Food Booths9:00am to 1:00pm Bob Sabourin Jazz in the Air - Food Court Tentc12:00pm to 3:00pm Performance Art - Linda Peck as Mary Poppins1:00pm to 4:00pm Performance Art - Ops the Cyclops1:00pm to 4:00pm North Shore Old Car Club over 75 ant ique cars1:00pm to 5:00pm Beer Garden Sponsored by Cape Ann Chamber1:00pm to 6:00pm Just Like Newman - Food Court TentNumerous Artisans will be demonstrating their craft including Leather Embossing\,Acrylic Sculpture\, Tile Making\, Woodworking\, Oil Painting\, Pottery and more.Dozens of Special ty Food booths wi l l of fer samples including herbal dips\, jams\, jellies\,sauces\, mustards\, nuts\, maple\, honey\, applesauce\, gourmet cof fees\, baked goods etc.A wide var iety of Internat ional Foods wi l l be avai lable including t radi t ional Amer ican\, Greekand Lebanese\, plus heal thy organic salads\, wraps and famous Gloucester seafood.Non-profit Agencies will be participat ing by selling raffle tickets\, cookbooks and distributinginformation.Designated Children's Area with bungee trampolines\, and giant inflatable's!
X-ALT-DESC;FMTTYPE=text/html:<p><span style="text-decoration:underline\;"><span style="color:black\;font-size:12pt\;">AUGUST 16 &amp\; 17\, 2014<br /></span></span><span style="color:black\;font-size:12pt\;">The 34<sup>th</sup> Annual <st1:place w:st="on"><st1:city w:st="on">Gloucester</st1:city></st1:place> Waterfront Festival<span>&nbsp\;&nbsp\;&nbsp\;&nbsp\;&nbsp\;&nbsp\;&nbsp\; </span><span style="text-decoration:underline\;"></span></span></p><p><span style="color:black\;font-size:12pt\;">takes place at <st1:place w:st="on"><st1:placename w:st="on">Stage</st1:placename> <st1:placename w:st="on">Fort</st1:placename> <st1:placetype w:st="on">Park</st1:placetype></st1:place>\, <st1:address w:st="on"><st1:street w:st="on">Hough Ave</st1:street>\, <st1:city w:st="on">Gloucester</st1:city>\, <st1:state w:st="on">MA</st1:state></st1:address> on <br />August 16 &amp\; 17\, from 9am to 6pm daily.<br />Featuring 175 Booths of American made arts\, crafts\, food and live music.</span></p><p><span style="color:black\;font-size:12pt\;">Pancake breakfast and Antique Car Show complete this picture perfect seaside </span><st1:place w:st="on"><span style="color:black\;font-size:12pt\;">New England</span></st1:place><span style="color:black\;font-size:12pt\;"> event.<br /></span></p><p><span style="color:black\;font-size:12pt\;">Free Admission ~ Rain or Shine<br />Directions: From Route 128 take Exit 14 and follow signs to Gloucester's Stage Fort Park</span></p><p><span style="color:black\;font-size:12pt\;">For more details visit <span style="text-decoration:underline\;"><a href="http://www.castleberryfairs.com/"><span style="color:black\;">www.castleberryfairs.com</span></a></span></span></p><div style="border-width:medium medium 1.5pt\;border-style:none none solid\;border-color:currentColor currentColor windowtext\;padding:0in 0in 1pt\;"><strong><span style="font-face:Times-Bold\;font-size:x-large\;"><span style="font-face:Times-Bold\;font-size:x-large\;"><p align="LEFT">34</p></span><p align="LEFT"></p></span><p align="LEFT"><span style="font-face:Times-Bold\;font-size:medium\;"><span style="font-face:Times-Bold\;font-size:medium\;">th </span></span><span style="font-face:Times-Bold\;font-size:x-large\;"><span style="font-face:Times-Bold\;font-size:x-large\;">Annual Gloucester Waterfront Festival</span></span></p><span style="font-face:Times-Bold\;font-size:x-large\;"><span style="font-face:Times-Bold\;font-size:x-large\;"><p align="LEFT">Stage Fort Park\, Gloucester\, Massachusetts</p><p align="LEFT">August 16 &amp\; 17\, 2014</p><br /></span></span><span style="font-face:Times-Bold\;"><p align="LEFT">9am to 6pm Dai ly</p><p align="LEFT">Free Admission ~ Rain or Shine</p><br /></span><span style="font-face:Times-Bold\;font-size:large\;"><span style="font-face:Times-Bold\;font-size:large\;"><p align="LEFT">Contact Information:</p><p align="LEFT">Cape Ann Chamber of Commerce (978) 283-1601</p><br /></span></span><span style="font-face:Times-Bold\;font-size:large\;"><span style="font-face:Times-Bold\;font-size:large\;"><p align="LEFT">www.capeannvacations.com</p><br /></span></span><span style="font-face:Times-Bold\;font-size:large\;"><span style="font-face:Times-Bold\;font-size:large\;"><p align="LEFT">Waterfront Festivals (603) 332-2616</p><br /></span></span></strong><span style="font-face:Times-Bold\;font-size:large\;"><span style="font-face:Times-Bold\;font-size:large\;"></span></span><span style="font-face:Times-Roman\;font-size:large\;"><span style="font-face:Times-Roman\;font-size:large\;"><p align="LEFT">www.castleberryfairs.com</p><br /></span></span><span style="font-face:Times-Roman\;font-size:large\;"><span style="font-face:Times-Roman\;font-size:large\;"><p align="LEFT">Schedule of Events</p><br /></span></span><strong><span style="font-face:Times-Bold\;"><p align="LEFT">Saturday\, August 16</p><br /></span></strong><span style="font-face:Times-Bold\;"></span><span style="font-face:Times-Roman\;"><p align="LEFT">7:30am to 10:30am Rotary Club's Pancake Breakfast</p><p align="LEFT">9:00am Waterfront Fest ival Opens: Arts\, Crafts\, Food Booths</p><p align="LEFT">9:00am to 12 Noon Bob Sabourin Jazz in the Air - Food Court Tent</p><p align="LEFT">12:00pm to 2:30pm Ryan McHugh - Food Court Tent</p><p align="LEFT">12:00pm to 3:00pm Performance Art - TBD</p><p align="LEFT">1:00pm to 4:00pm Performance Art - Ops the Cyclops</p><p align="LEFT">2:30pm - t il l 5:30pm Honky Tonk Women of Gloucester - Food Court Tent</p><br /></span><strong><span style="font-face:Times-Bold\;"><p align="LEFT">Sunday\, August 17</p><br /></span></strong><span style="font-face:Times-Bold\;"></span><span style="font-face:Times-Roman\;"><p align="LEFT">9:00am Waterfront Fest ival Opens: Arts\, Crafts\, Food Booths</p><p align="LEFT">9:00am to 1:00pm Bob Sabourin Jazz in the Air - Food Court Tentc</p><p align="LEFT">12:00pm to 3:00pm Performance Art - Linda Peck as Mary Poppins</p><p align="LEFT">1:00pm to 4:00pm Performance Art - Ops the Cyclops</p><p align="LEFT">1:00pm to 4:00pm North Shore Old Car Club over 75 ant ique cars</p><p align="LEFT">1:00pm to 5:00pm Beer Garden Sponsored by Cape Ann Chamber</p><p align="LEFT">1:00pm to 6:00pm Just Like Newman - Food Court Tent</p></span><span style="font-face:Symbol\;font-size:small\;"><span style="font-face:Symbol\;font-size:small\;"></span><p align="LEFT"></p></span><p align="LEFT"><span style="font-face:Times-Roman\;font-size:small\;"><span style="font-face:Times-Roman\;font-size:small\;">Numerous Artisans will be demonstrating their craft including Leather Embossing\,</span></span></p><span style="font-face:Times-Roman\;font-size:small\;"><span style="font-face:Times-Roman\;font-size:small\;"><p align="LEFT">Acrylic Sculpture\, Tile Making\, Woodworking\, Oil Painting\, Pottery and more.</p></span></span><span style="font-face:Symbol\;font-size:small\;"><span style="font-face:Symbol\;font-size:small\;"></span><p align="LEFT"></p></span><p align="LEFT"><span style="font-face:Times-Roman\;font-size:small\;"><span style="font-face:Times-Roman\;font-size:small\;">Dozens of Special ty Food booths wi l l of fer samples including herbal dips\, jams\, jellies\,</span></span></p><span style="font-face:Times-Roman\;font-size:small\;"><span style="font-face:Times-Roman\;font-size:small\;"><p align="LEFT">sauces\, mustards\, nuts\, maple\, honey\, applesauce\, gourmet cof fees\, baked goods etc.</p></span></span><span style="font-face:Symbol\;font-size:small\;"></span><p align="LEFT"><span style="font-face:Times-Roman\;font-size:small\;"><span style="font-face:Times-Roman\;font-size:small\;">A wide var iety of Internat ional Foods wi l l be avai lable including t radi t ional Amer ican\, Greek</span></span></p><span style="font-face:Times-Roman\;font-size:small\;"><span style="font-face:Times-Roman\;font-size:small\;"><p align="LEFT">and Lebanese\, plus heal thy organic salads\, wraps and famous Gloucester seafood.</p></span></span><span style="font-face:Symbol\;font-size:small\;"></span><p align="LEFT"></p><p align="LEFT"><span style="font-face:Times-Roman\;font-size:small\;"><span style="font-face:Times-Roman\;font-size:small\;">Non-profit Agencies will be participat ing by selling raffle tickets\, cookbooks and distributing</span></span></p><span style="font-face:Times-Roman\;font-size:small\;"><span style="font-face:Times-Roman\;font-size:small\;"><p align="LEFT">information.</p></span></span><span style="font-face:Symbol\;"><p align="LEFT"></p></span><p><span style="font-face:Times-Roman\;">Designated Children's Area with bungee trampolines\, and giant inflatable&rsquo\;s!</span></p><span style="font-face:Times-Roman\;"></span></div>
LOCATION:Stage Fort Park Hough St\, Gloucester\, MA 01930
UID:e.2981.1377
SEQUENCE:3
DTSTAMP:20260419T130633Z
URL:https://visit.rockportusa.com/events/details/gloucester-waterfront-festival-08-16-2014-1377
END:VEVENT

END:VCALENDAR
