BEGIN:VCALENDAR
VERSION:2.0
PRODID:-//ChamberMaster//Event Calendar 2.0//EN
METHOD:PUBLISH
X-PUBLISHED-TTL:P3D
REFRESH-INTERVAL:P3D
CALSCALE:GREGORIAN
BEGIN:VEVENT
DTSTART:20260529T220000Z
DTEND:20260530T020000Z
X-MICROSOFT-CDO-ALLDAYEVENT:FALSE
SUMMARY:Gloucester Rotary Casino Night
DESCRIPTION:Gloucester Rotary Casino Night\n\nFriday\, May 29\, 2026\, 6-10pm\n\nCruiseport Gloucester \n\n(6 Rowe Square\, Gloucester)\n\n \n\nThe Gloucester Rotary will host a Casino Night Fundraiser\, an evening of fun and philanthropy in support of the Gloucester Rotary's mission to serve our community and our world. This event will bring together community leaders\, supporters\, and local businesses for a spirited night of gaming\, prizes\, and celebration all to raise critical funds for programs that make a real difference. Sponsorships/ticket purchases. Deadline for sponsorships: May 15\, 2026.
X-ALT-DESC;FMTTYPE=text/html:<div style="text-align:start"><strong>Gloucester Rotary Casino Night</strong><br />\nFriday\, May 29\, 2026\, 6-10pm<br />\nCruiseport Gloucester&nbsp\;<br />\n(6 Rowe Square\, Gloucester)</div>\n\n<div style="text-align:start">&nbsp\;</div>\n\n<div style="text-align:start">The Gloucester Rotary will host a Casino Night Fundraiser\, an evening of fun and philanthropy in support of the Gloucester Rotary&rsquo\;s mission to serve our community and our world. This event will bring together community leaders\, supporters\, and local businesses for a spirited night of gaming\, prizes\, and celebration&mdash\;all to raise critical funds for programs that make a real difference.&nbsp\;<a href="https://secure.qgiv.com/for/casinnigh2/event/casinonight2026/" style="box-sizing: border-box\; background-color: transparent\; color: rgb(0\, 93\, 170)\; text-decoration: none\; cursor: pointer\;" target="_blank">Sponsorships/ticket purchases</a>.&nbsp\;<em>Deadline for sponsorships: May 15\, 2026.&nbsp\;</em></div>\n
LOCATION:Cruiseport Gloucester\, 6 Rowe Square\, Gloucester\, MA
UID:e.2981.47081
SEQUENCE:3
DTSTAMP:20260424T230648Z
URL:https://visit.rockportusa.com/events/details/gloucester-rotary-casino-night-47081
END:VEVENT

END:VCALENDAR
