BEGIN:VCALENDAR
VERSION:2.0
PRODID:-//ChamberMaster//Event Calendar 2.0//EN
METHOD:PUBLISH
X-PUBLISHED-TTL:P3D
REFRESH-INTERVAL:P3D
CALSCALE:GREGORIAN
BEGIN:VEVENT
DTSTART:20130810T130000Z
DTEND:20130810T230000Z
X-MICROSOFT-CDO-ALLDAYEVENT:FALSE
SUMMARY:Gloucester Blues Festival
DESCRIPTION:2013 Performers\n\nTommy Castro\nAna Popovic\nJohnny Rawls\nBiscuit Miller\nAnthony Gomes\nLydia Warren\nGracie Curran
X-ALT-DESC;FMTTYPE=text/html:2013 Performers\n\nTommy Castro\nAna Popovic\nJohnny Rawls\nBiscuit Miller\nAnthony Gomes\nLydia Warren\nGracie Curran
LOCATION:Stage Fort Park\, Gloucester \, Gloucester\, MA 01930 Stage Fort Park\, Gloucester
UID:e.2981.1029
SEQUENCE:3
DTSTAMP:20260420T105214Z
URL:https://visit.rockportusa.com/events/details/gloucester-blues-festival-08-10-2013-1029
END:VEVENT

END:VCALENDAR
