BEGIN:VCALENDAR
VERSION:2.0
PRODID:-//ChamberMaster//Event Calendar 2.0//EN
METHOD:PUBLISH
X-PUBLISHED-TTL:P3D
REFRESH-INTERVAL:P3D
CALSCALE:GREGORIAN
BEGIN:VEVENT
DTSTART:20140809T150000Z
DTEND:20140809T233000Z
X-MICROSOFT-CDO-ALLDAYEVENT:FALSE
SUMMARY:Gloucester Blues Festival
DESCRIPTION:World Class Blues will reverberate through Gloucester's Stage Fort Park with some of the nation's finest performers playing from the Gloucester Blues Stage. Located right on the waterfront at beautiful Cressey's Beach\, the event will have a beer and wine garden\, a guitar raffle (signed by this year's performing artists)\, and outstanding food and craft vendors.Here is this year's line-up:Willie J. Laws: 11:00 - 11:30 amSugar Ray & The Bluetones: 11:45 am - 12:45 pmBiscuit Miller: 1:00 - 2:00 pmDebbie Davies: 2:15 - 3:15 pmVictor Wainwright: 3:30 - 4:35 pmTinsley Ellis: 4:50 - 6:00 pmRonnie Baker Brooks: 6:15 - 7:30 pmAdvanced Ticket Sales-thru August 4- at the Chamber Office $28.00.After August 4\, 2014:  $40.00.
X-ALT-DESC;FMTTYPE=text/html:<p>World Class Blues will reverberate through Gloucester's Stage Fort Park with some of the nation's finest performers playing from the Gloucester Blues Stage. Located right on the waterfront at beautiful Cressey's Beach\, the event will have a beer and wine garden\, a guitar raffle (signed by this year's performing artists)\, and outstanding food and craft vendors.</p><p>Here is this year's line-up:</p><p><a href="http://gloucesterbluesfestival.com/willie-j-laws-band/">Willie J. Laws</a>: 11:00&nbsp\;- 11:30 am</p><p><a href="http://gloucesterbluesfestival.com/sugar-ray-the-bluetones/">Sugar Ray &amp\; The Bluetones</a>: 11:45 am&nbsp\;- 12:45 pm</p><p><a href="http://gloucesterbluesfestival.com/biscuit-miller-the-mix/">Biscuit Miller</a>: 1:00&nbsp\;- 2:00 pm</p><p><a href="http://gloucesterbluesfestival.com/debbie-davies-band/">Debbie Davies</a>: 2:15 - 3:15 pm</p><p><a href="http://gloucesterbluesfestival.com/debbie-davies-band/">Victor Wainwright</a>: 3:30 - 4:35 pm</p><p><a href="http://gloucesterbluesfestival.com/tinsley-ellis/">Tinsley Ellis</a>: 4:50 - 6:00 pm</p><p><a href="http://gloucesterbluesfestival.com/ronnie-baker-brooks-band/">Ronnie Baker Brooks</a>: 6:15 - 7:30 pm</p><p>Advanced Ticket Sales-thru August 4-&nbsp\;at the Chamber Office $28.00.</p><p>After August 4\, 2014:&nbsp\; $40.00.</p>
LOCATION:
UID:e.2981.1376
SEQUENCE:3
DTSTAMP:20260419T130808Z
URL:https://visit.rockportusa.com/events/details/gloucester-blues-festival-08-09-2014-1376
END:VEVENT

END:VCALENDAR
