BEGIN:VCALENDAR
VERSION:2.0
PRODID:-//ChamberMaster//Event Calendar 2.0//EN
METHOD:PUBLISH
X-PUBLISHED-TTL:P3D
REFRESH-INTERVAL:P3D
CALSCALE:GREGORIAN
BEGIN:VEVENT
DTSTART:20140826T150000Z
DTEND:20140826T160000Z
X-MICROSOFT-CDO-ALLDAYEVENT:FALSE
SUMMARY:Gallery Walk with Artist Peter Tysver
DESCRIPTION:An informative and illuminating tour of North Shore Arts Association's "Artists and The Cape Ann Experience"\nexhibition of museum quality masterworks of great American Artists who lived and worked on Cape Ann.  These\nworks are drawn from the personal collections of major art collectors from around the country.
X-ALT-DESC;FMTTYPE=text/html:An informative and illuminating tour of North Shore Arts Association's "Artists and The Cape Ann Experience"\nexhibition of museum quality masterworks of great American Artists who lived and worked on Cape Ann.  These\nworks are drawn from the personal collections of major art collectors from around the country.
LOCATION:11 Pirates Lane\, Gloucester\, MA 01930 East Gloucester\, MA
UID:e.2981.1477
SEQUENCE:3
DTSTAMP:20260419T132214Z
URL:https://visit.rockportusa.com/events/details/gallery-walk-with-artist-peter-tysver-08-26-2014-1477
END:VEVENT

END:VCALENDAR
