BEGIN:VCALENDAR
VERSION:2.0
PRODID:-//ChamberMaster//Event Calendar 2.0//EN
METHOD:PUBLISH
X-PUBLISHED-TTL:P3D
REFRESH-INTERVAL:P3D
CALSCALE:GREGORIAN
BEGIN:VEVENT
DTSTART:20140918T230000Z
DTEND:20140919T000000Z
X-MICROSOFT-CDO-ALLDAYEVENT:FALSE
SUMMARY:Gallery Talk with artist Charles Movalli
DESCRIPTION:An informative and illuminating discussion of North Shore Arts Association's "Artists and The Cape Ann Experience"\nexhibition of museum quality masterworks of great American Artists who lived and worked on Cape Ann.  These\nworks are drawn from the personal collections of major art collectors from around the country.
X-ALT-DESC;FMTTYPE=text/html:An informative and illuminating discussion of North Shore Arts Association's "Artists and The Cape Ann Experience"\nexhibition of museum quality masterworks of great American Artists who lived and worked on Cape Ann.  These\nworks are drawn from the personal collections of major art collectors from around the country.
LOCATION:11 Pirates Lane\, Gloucester\, MA 01930 East Gloucester\, MA
UID:e.2981.1482
SEQUENCE:3
DTSTAMP:20260419T130910Z
URL:https://visit.rockportusa.com/events/details/gallery-talk-with-artist-charles-movalli-09-18-2014-1482
END:VEVENT

END:VCALENDAR
