BEGIN:VCALENDAR
VERSION:2.0
PRODID:-//ChamberMaster//Event Calendar 2.0//EN
METHOD:PUBLISH
X-PUBLISHED-TTL:P3D
REFRESH-INTERVAL:P3D
CALSCALE:GREGORIAN
BEGIN:VEVENT
DTSTART:20131005T210000Z
DTEND:20131005T220000Z
X-MICROSOFT-CDO-ALLDAYEVENT:FALSE
SUMMARY:Gallery Talk: ''Paths to Abstraction''
DESCRIPTION:Gallery Director Matthew Swift and artist Ruth Mordecai offer remarks and lead discussion on abstraction in the works of artists Dennis Flavin\, Ruth Mordecai\, Eileen Mueller\, and Patti Sullivan.\n\nSaturday afternoon gallery talks focus on the work of artists featured in the current exhibition\, Home: The Inaugural Exhibition.  Prepared remarks for 45-60 minutes will be followed by discussion and light refreshments.  Additional works of art by the artists under discussion will be on display during each event.\n\nTrident Gallery is at 189 Main Street\, Gloucester.  Gallery hours are Wednesday-Friday   Saturday 10am-7pm\; Monday\, Tuesday and any time by appointment.  Trident Gallery will be open 10am-5pm on Columbus Day (Monday\, October 14th). Consult tridentgallery.com or contact Gallery Director Matthew Swift at 978-491-7785 or director@tridentgallery.com for further information.
X-ALT-DESC;FMTTYPE=text/html:Gallery Director Matthew Swift and artist Ruth Mordecai offer remarks and lead discussion on abstraction in the works of artists Dennis Flavin\, Ruth Mordecai\, Eileen Mueller\, and Patti Sullivan.\n\nSaturday afternoon gallery talks focus on the work of artists featured in the current exhibition\, Home: The Inaugural Exhibition.  Prepared remarks for 45-60 minutes will be followed by discussion and light refreshments.  Additional works of art by the artists under discussion will be on display during each event.\n\nTrident Gallery is at 189 Main Street\, Gloucester.  Gallery hours are Wednesday-Friday & Sunday 10am-5pm\; Saturday 10am-7pm\; Monday\, Tuesday and any time by appointment.  Trident Gallery will be open 10am-5pm on Columbus Day (Monday\, October 14th). Consult tridentgallery.com or contact Gallery Director Matthew Swift at 978-491-7785 or director@tridentgallery.com for further information.
LOCATION:189 Main Street\, Gloucester\, MA 01930 At the corner of Duncan/Pleasant and Main Streets\, downtown Gloucester.
UID:e.2981.1128
SEQUENCE:3
DTSTAMP:20260420T054826Z
URL:https://visit.rockportusa.com/events/details/gallery-talk-paths-to-abstraction-10-05-2013-1128
END:VEVENT

END:VCALENDAR
