BEGIN:VCALENDAR
VERSION:2.0
PRODID:-//ChamberMaster//Event Calendar 2.0//EN
METHOD:PUBLISH
X-PUBLISHED-TTL:P3D
REFRESH-INTERVAL:P3D
CALSCALE:GREGORIAN
BEGIN:VEVENT
DTSTART:20250212T230000Z
DTEND:20250213T010000Z
X-MICROSOFT-CDO-ALLDAYEVENT:FALSE
SUMMARY:Galentine's Frame Decorating
DESCRIPTION:Are you ready to get crafty and show some love?\n\nJoin us at the brewery for a special workshop with Crafts by Clara & Madeleine on Wednesday\, February 12th at 6PM. Together\, you and your best friend can create a one-of-a-kind picture frame that's perfect for displaying your favorite memories. It's the ideal way to spend quality time together and get creative! \n\n \n\nThe workshop is $25 per person and seating is limited\, so be sure to reserve your spot soon. You won't want to miss out on this opportunity to make something beautiful with your bestie. See you there! ???
X-ALT-DESC;FMTTYPE=text/html:<div style="background:transparent\; border:0px\; padding:0px">\n<div style="background:transparent\; border:0px\; padding:0px">\n<div>\n<div style="background:transparent\; border:0px\; padding:0px">\n<p style="text-align:initial"><strong>Are you ready to get crafty and show some love?</strong></p>\n\n<p style="text-align:initial"><strong>Join us at the brewery for a special workshop with Crafts by Clara &amp\; Madeleine on Wednesday\, February 12th at 6PM. Together\, you and your best friend can create a one-of-a-kind picture frame that&#39\;s perfect for displaying your favorite memories. It&#39\;s the ideal way to spend quality time together and get creative! </strong></p>\n\n<div style="background:transparent\; border:0px\; padding:0px\; text-align:initial">&nbsp\;</div>\n\n<p style="text-align:initial"><strong>The workshop is $25 per person and seating is limited\, so be sure to reserve your spot soon. You won&#39\;t want to miss out on this opportunity to make something beautiful with your bestie. See you there! ???</strong></p>\n</div>\n</div>\n</div>\n</div>\n
LOCATION:Ipswich Ale Brewery 2 Brewery Place\, Ipswich\, MA
UID:e.2981.34754
SEQUENCE:3
DTSTAMP:20260426T034253Z
URL:https://visit.rockportusa.com/events/details/galentine-s-frame-decorating-02-12-2025-34754
END:VEVENT

END:VCALENDAR
