BEGIN:VCALENDAR
VERSION:2.0
PRODID:-//ChamberMaster//Event Calendar 2.0//EN
METHOD:PUBLISH
X-PUBLISHED-TTL:P3D
REFRESH-INTERVAL:P3D
CALSCALE:GREGORIAN
BEGIN:VEVENT
DTSTART:20140522T223000Z
DTEND:20140523T000000Z
X-MICROSOFT-CDO-ALLDAYEVENT:FALSE
SUMMARY:Finally\, Get Organized
DESCRIPTION:I believe I submitted this information earlier but couldn't find it under community events.  Please let me know and I will re-submit it. I have a flyer I could attach as well.
X-ALT-DESC;FMTTYPE=text/html:I believe I submitted this information earlier but couldn't find it under community events.  Please let me know and I will re-submit it. I have a flyer I could attach as well.\n\n
LOCATION:222 Eastern Ave\, Gloucester\, MA 01930 222 Eastern Ave.\, Gloucester ma
UID:e.2981.1324
SEQUENCE:3
DTSTAMP:20260419T181731Z
URL:https://visit.rockportusa.com/events/details/finally-get-organized-05-22-2014-1324
END:VEVENT

END:VCALENDAR
