BEGIN:VCALENDAR
VERSION:2.0
PRODID:-//ChamberMaster//Event Calendar 2.0//EN
METHOD:PUBLISH
X-PUBLISHED-TTL:P3D
REFRESH-INTERVAL:P3D
CALSCALE:GREGORIAN
BEGIN:VEVENT
DTSTART:20250624T190000Z
DTEND:20250624T213000Z
X-MICROSOFT-CDO-ALLDAYEVENT:FALSE
SUMMARY:Film: Moana
DESCRIPTION:In ancient Polynesia\, when a terrible curse incurred by the demigod Maui reaches Moana's island\, she answers the Ocean's call to seek out Maui to set things right.
X-ALT-DESC;FMTTYPE=text/html:<div>\n<div>\n<div>\n<div>\n<div style="margin-left:var(--awb-spacing-left)\; margin-right:var(--awb-spacing-right)">\n<div style="text-align:var(--awb-content-alignment)">\n<p>In ancient Polynesia\, when a terrible curse incurred by the demigod Maui reaches Moana&rsquo\;s island\, she answers the Ocean&rsquo\;s call to seek out Maui to set things right.</p>\n\n<div>&nbsp\;</div>\n</div>\n</div>\n</div>\n</div>\n</div>\n</div>\n\n<ul style="list-style-type:none">\n</ul>\n
LOCATION:37 Main St\, Rockport\, MA 01966
UID:e.2981.36730
SEQUENCE:3
DTSTAMP:20260426T040318Z
URL:https://visit.rockportusa.com/events/details/film-moana-36730
END:VEVENT

END:VCALENDAR
