BEGIN:VCALENDAR
VERSION:2.0
PRODID:-//ChamberMaster//Event Calendar 2.0//EN
METHOD:PUBLISH
X-PUBLISHED-TTL:P3D
REFRESH-INTERVAL:P3D
CALSCALE:GREGORIAN
BEGIN:VEVENT
DTSTART:20250610T230000Z
DTEND:20250611T013000Z
X-MICROSOFT-CDO-ALLDAYEVENT:FALSE
SUMMARY:Film: La La Land
DESCRIPTION:When Sebastian\, a pianist\, and Mia\, an actress\, follow their passion and achieve success in their respective fields\, they find themselves torn between their love for each other and their careers.
X-ALT-DESC;FMTTYPE=text/html:<p><span style="color:rgb(0\, 0\, 0)\; font-family:open sans\,arial\,helvetica\,sans-serif\; font-size:16px">When Sebastian\, a pianist\, and Mia\, an actress\, follow their passion and achieve success in their respective fields\, they find themselves torn between their love for each other and their careers.</span></p>\n
LOCATION:37 Main St\, Rockport\, MA 01966
UID:e.2981.36718
SEQUENCE:3
DTSTAMP:20260426T040448Z
URL:https://visit.rockportusa.com/events/details/film-la-la-land-36718
END:VEVENT

END:VCALENDAR
