BEGIN:VCALENDAR
VERSION:2.0
PRODID:-//ChamberMaster//Event Calendar 2.0//EN
METHOD:PUBLISH
X-PUBLISHED-TTL:P3D
REFRESH-INTERVAL:P3D
CALSCALE:GREGORIAN
BEGIN:VEVENT
DTSTART:20140721T230000Z
DTEND:20140721T230000Z
X-MICROSOFT-CDO-ALLDAYEVENT:FALSE
SUMMARY:FILM: A Walk Into the Sea: Danny Williams and the Warhol Factory
DESCRIPTION:A documentary about the mysterious 1966 disappearance of Danny Williams and was produced by his niece Esther Robinson.  Virtually an unknown fact today\, Danny Williams was Andy Warhol's lover and a promising young filmmaker at the time.  The film includes 20 never-before-seen film shorts Williams made during his time at the Factory and what may be the earliest known footage of the Velvet Underground.  In the film\, Robinson interviews surviving Factory members and quietly dismantles the Warhol myth-making machine\, allowing a deeper examination of the human fragility on which Warhol's empire was built.   Esther Robinson will host a post-film Q&A
X-ALT-DESC;FMTTYPE=text/html:A documentary about the mysterious 1966 disappearance of Danny Williams and was produced by his niece Esther Robinson.  Virtually an unknown fact today\, Danny Williams was Andy Warhol's lover and a promising young filmmaker at the time.  The film includes 20 never-before-seen film shorts Williams made during his time at the Factory and what may be the earliest known footage of the Velvet Underground.  In the film\, Robinson interviews surviving Factory members and quietly dismantles the Warhol myth-making machine\, allowing a deeper examination of the human fragility on which Warhol's empire was built.   Esther Robinson will host a post-film Q&A
LOCATION:Shalin Liu Performance Center\, Rockport\, Ma 01966
UID:e.2981.1229
SEQUENCE:3
DTSTAMP:20260419T145623Z
URL:https://visit.rockportusa.com/events/details/film-a-walk-into-the-sea-danny-williams-and-the-warhol-factory-07-21-2014-1229
END:VEVENT

END:VCALENDAR
