BEGIN:VCALENDAR
VERSION:2.0
PRODID:-//ChamberMaster//Event Calendar 2.0//EN
METHOD:PUBLISH
X-PUBLISHED-TTL:P3D
REFRESH-INTERVAL:P3D
CALSCALE:GREGORIAN
BEGIN:VEVENT
DTSTART:20140802T140000Z
DTEND:20140803T000000Z
X-MICROSOFT-CDO-ALLDAYEVENT:FALSE
SUMMARY:Festival by the Sea 2014
DESCRIPTION:On Saturday\, August 2nd\, Manchester's celebration of local art\, music and food\, Festival by the Sea\, returns to downtown. The popular annual event will feature over 75 artists ranging from painters to jewelers and artisans\, and it will stretch from Town Hall Common throughout town into Masconomo Park.\n\nIn the park\, visitors will find not only art\, but a variety of foods provided by local restaurants and food trucks as well as a beer garden featuring Cape Ann Brewing's signature ale\, Fisherman's Brew.\n\nOn the Masconomo Park bandstand\, live music will extend throughout the day featuring many Cape Ann-favorites like Joe Wilkins\, Bradley Royds and Allen and Dylan Estes.  The all-day event will culminate with a 6pm headlining performance by Vermont native and current New York City musician\, Caitlin Canty.  Described by Urban H2O Music Director\, Mark Miller as "clear eyed\, clear voiced and singing sweetly from her soul\, (Canty) captivates an audience."\n\nCanty's early summer performance at Cambridge's ubiquitous Club Passim sold out days before the show.\n\nFestival co-chair and music director\, Chris Langathianos\, said\, "I have been following Caitlin for a while now\, so I am thrilled that she accepted our offer to headline our local celebration of the arts. She will be coming directly from performing at the Falcon Ridge Folk Festival which draws as many as 15\,000 attendees\, so we're going to see a special talent right in our own backyard."\n\nFestival by the Sea begins at 10am and continues on into the evening with the concert in the park.  In the event of inclement weather\, the rain date will be the following day\, Sunday\, August 3rd.  For more information\, follow Festival by the Sea on Facebook.
X-ALT-DESC;FMTTYPE=text/html:<p>On Saturday\, August 2<sup>nd</sup>\, Manchester&rsquo\;s celebration of local art\, music and food\, Festival by the Sea\, returns to downtown. The popular annual event will feature over 75 artists ranging from painters to jewelers and artisans\, and it will stretch from Town Hall Common throughout town into Masconomo Park.</p>\n\n<p>In the park\, visitors will find not only art\, but a variety of foods provided by local restaurants and food trucks as well as a beer garden featuring Cape Ann Brewing&rsquo\;s signature ale\, Fisherman&rsquo\;s Brew.</p>\n\n<p>On the Masconomo Park bandstand\, live music will extend throughout the day featuring many Cape Ann-favorites like Joe Wilkins\, Bradley Royds and Allen and Dylan Estes.<span>&nbsp\; </span>The all-day event will culminate with a 6pm headlining performance by Vermont native and current New York City musician\, Caitlin Canty.<span>&nbsp\; </span>Described by Urban H2O Music Director\, Mark Miller as &ldquo\;clear eyed\, clear voiced and singing sweetly from her soul\, (Canty) captivates an audience.&rdquo\;</p>\n\n<p>Canty&rsquo\;s early summer performance at Cambridge&rsquo\;s ubiquitous Club Passim sold out days before the show.</p>\n\n<p>Festival co-chair and music director\, Chris Langathianos\, said\, &ldquo\;I have been following Caitlin for a while now\, so I am thrilled that she accepted our offer to headline our local celebration of the arts. She will be coming directly from performing at the Falcon Ridge Folk Festival which draws as many as 15\,000 attendees\, so we&rsquo\;re going to see a special talent right in our own backyard.&rdquo\;</p>\n\n<p>Festival by the Sea begins at 10am and continues on into the evening with the concert in the park.<span>&nbsp\; </span>In the event of inclement weather\, the rain date will be the following day\, Sunday\, August 3<sup>rd</sup>.<span>&nbsp\; </span>For more information\, follow Festival by the Sea on Facebook.</p>\n
LOCATION:Downtown and Masconomo Park Across from 60 Beach Street\, Manchester-by-the-Sea\, MA 01944
UID:e.2981.1375
SEQUENCE:3
DTSTAMP:20260419T130556Z
URL:https://visit.rockportusa.com/events/details/festival-by-the-sea-2014-1375
END:VEVENT

END:VCALENDAR
