BEGIN:VCALENDAR
VERSION:2.0
PRODID:-//ChamberMaster//Event Calendar 2.0//EN
METHOD:PUBLISH
X-PUBLISHED-TTL:P3D
REFRESH-INTERVAL:P3D
CALSCALE:GREGORIAN
BEGIN:VEVENT
DTSTART:20130803T140000Z
DTEND:20130803T230000Z
X-MICROSOFT-CDO-ALLDAYEVENT:FALSE
SUMMARY:Festival By The Sea 2013
DESCRIPTION:Saturday\, August 3\, 2013 For more information\, email Emily at emily@capeannchamber.com https://www.facebook.com/festivalbythesea?fref=ts
X-ALT-DESC;FMTTYPE=text/html:Saturday\, August 3\, 2013 For more information\, email Emily at emily@capeannchamber.com https://www.facebook.com/festivalbythesea?fref=ts
LOCATION:
UID:e.2981.1030
SEQUENCE:3
DTSTAMP:20260420T090753Z
URL:https://visit.rockportusa.com/events/details/festival-by-the-sea-2013-1030
END:VEVENT

END:VCALENDAR
