BEGIN:VCALENDAR
VERSION:2.0
PRODID:-//ChamberMaster//Event Calendar 2.0//EN
METHOD:PUBLISH
X-PUBLISHED-TTL:P3D
REFRESH-INTERVAL:P3D
CALSCALE:GREGORIAN
BEGIN:VEVENT
DTSTART:20140731T170000Z
DTEND:20140731T170000Z
X-MICROSOFT-CDO-ALLDAYEVENT:FALSE
SUMMARY:Fences
DESCRIPTION:This sensational drama starred James Earl Jones as Troy Maxson\, a former star of the Negro baseball leagues who now works as a garbage man in 1957 Pittsburgh. Excluded from the major leagues during his prime\, Troy's bitterness takes its toll on his relationships with his wife and his son\, who now wants his own chance to play ball.
X-ALT-DESC;FMTTYPE=text/html:This sensational drama starred James Earl Jones as Troy Maxson\, a former star of the Negro baseball leagues who now works as a garbage man in 1957 Pittsburgh. Excluded from the major leagues during his prime\, Troy's bitterness takes its toll on his relationships with his wife and his son\, who now wants his own chance to play ball. 
LOCATION:267 East Main Street\, Gloucester\, MA 01930 267 East Main Street\, Gloucester MA
UID:e.2981.1305
SEQUENCE:3
DTSTAMP:20260419T143912Z
URL:https://visit.rockportusa.com/events/details/fences-07-31-2014-1305
END:VEVENT

END:VCALENDAR
