BEGIN:VCALENDAR
VERSION:2.0
PRODID:-//ChamberMaster//Event Calendar 2.0//EN
METHOD:PUBLISH
X-PUBLISHED-TTL:P3D
REFRESH-INTERVAL:P3D
CALSCALE:GREGORIAN
BEGIN:VEVENT
DTSTART:20250615T190000Z
DTEND:20250616T003000Z
X-MICROSOFT-CDO-ALLDAYEVENT:FALSE
SUMMARY:Father's Day Cruise Gloucester Harbor | Things to Do
DESCRIPTION:Event Description:\n\nLooking for an unforgettable way to celebrate Father's Day? Hop aboard the legendary WEJACK yacht for a scenic and fun Gloucester Harbor cruise! Enjoy the beauty of Gloucester harbor\, grab a drink\, and kick back and enjoy the scenery from a classic Gloucester yacht! We offer the perfect blend of relaxation and excitement\, with spacious decks for mingling\, a fully stocked bar\, and a friendly crew to ensure your comfort. Don't miss this opportunity to create magical memories while celebrating Father's Day.\n\n  \n\nMORE INFO FROM CAPE ANN CRUISES\n\nFull Bar\n\nNo Smoking/No Vaping\n\nArrive Early*\n\nThe boat leaves promptly\; please plan your trip accordingly.  If you're coming from out of town\, we recommend planning to arrive in Gloucester 30-45 minutes prior to be safe and find parking.  Boarding begins 15 minutes prior to departure time.\n\nAbout Cape Ann Cruises\n\nExperience Gloucester Harbor aboard the Legendary Wejack Yacht.\n\nEvents by Boat. Wedding Parties\, Corporate Outings\, Celebrations. Full Bar & Catering. Live Music. Private Charters up to 46 Passengers. Fishing Charters. Public Cruises. Book to Reserve Your Date!\n\nFinding the Dock/Wejack Yacht\n\nCape Ann Cruises' Wejack yacht is docked next to the Gloucester House Restaurant\, 63 Rogers Street\, Gloucester\, MA. Facing the Gloucester House Restaurant (from 63 Rogers Street)\, we're docked on the right side of the Gloucester House.\n\nParking\n\nOnsite Public Parking\n\nCommuter Rail Accessible From Boston's North Station\n\nThe Cape Ann Cruises dock is only 1/2 mile from the Gloucester Commuter Rail Station outbound from North Station. So this show is accessible to all Boston folks who want to enjoy the beautiful train ride along the North Shore.\n\nWhat to Wear\n\nConsider comfortable and practical shoes and a warm layer just in case\, as the temperatures can be much more relaxed on the water.\n\nLodging\n\nGloucester has many lodging options\, beaches\, and museums. We recommend making more than a night of it.
X-ALT-DESC;FMTTYPE=text/html:<h3>Event Description:</h3>\n\n<p>Looking for an unforgettable way to celebrate Father&rsquo\;s Day? Hop aboard the legendary WEJACK yacht for a scenic and fun Gloucester Harbor cruise! Enjoy the beauty of Gloucester harbor\, grab a drink\, and kick back and enjoy the scenery from a classic Gloucester yacht! We offer the perfect blend of relaxation and excitement\, with spacious decks for mingling\, a fully stocked bar\, and a friendly crew to ensure your comfort. Don&#39\;t miss this opportunity to create magical memories while celebrating Father&rsquo\;s Day.</p>\n\n<h3>&mdash\;&mdash\;</h3>\n\n<h3>MORE INFO FROM CAPE ANN CRUISES</h3>\n\n<h3>Full Bar</h3>\n\n<h3>No Smoking/No Vaping</h3>\n\n<h3>Arrive Early*</h3>\n\n<p>The boat leaves promptly\; please plan your trip accordingly.&nbsp\; If you&rsquo\;re coming from out of town\, we recommend planning to arrive in Gloucester 30-45 minutes prior to be safe and find parking.&nbsp\; Boarding begins 15 minutes prior to departure time.</p>\n\n<h3>About Cape Ann Cruises</h3>\n\n<p>Experience Gloucester Harbor aboard the Legendary Wejack Yacht.</p>\n\n<p>Events by Boat. Wedding Parties\, Corporate Outings\, Celebrations. Full Bar &amp\; Catering. Live Music. Private Charters up to 46 Passengers. Fishing Charters. Public Cruises. Book to Reserve Your Date!</p>\n\n<h3>Finding the Dock/Wejack Yacht</h3>\n\n<p>Cape Ann Cruises&rsquo\; Wejack yacht is docked next to the Gloucester House Restaurant\, 63 Rogers Street\, Gloucester\, MA. Facing the Gloucester House Restaurant (from 63 Rogers Street)\, we&rsquo\;re docked on the right side of the Gloucester House.</p>\n\n<h3>Parking</h3>\n\n<p>Onsite Public Parking</p>\n\n<h3>Commuter Rail Accessible From Boston&rsquo\;s North Station</h3>\n\n<p>The Cape Ann Cruises dock is only 1/2 mile from the Gloucester Commuter Rail Station outbound from North Station. So this show is accessible to all Boston folks who want to enjoy the beautiful train ride along the North Shore.</p>\n\n<h3>What to Wear</h3>\n\n<p>Consider comfortable and practical shoes and a warm layer just in case\, as the temperatures can be much more relaxed on the water.</p>\n\n<h3>Lodging</h3>\n\n<p>Gloucester has many lodging options\, beaches\, and museums. We recommend making more than a night of it.</p>\n
LOCATION:
UID:e.2981.36750
SEQUENCE:3
DTSTAMP:20260426T040527Z
URL:https://visit.rockportusa.com/events/details/father-s-day-cruise-gloucester-harbor-things-to-do-36750
END:VEVENT

END:VCALENDAR
