BEGIN:VCALENDAR
VERSION:2.0
PRODID:-//ChamberMaster//Event Calendar 2.0//EN
METHOD:PUBLISH
X-PUBLISHED-TTL:P3D
REFRESH-INTERVAL:P3D
CALSCALE:GREGORIAN
BEGIN:VEVENT
DTSTART:20140712T140000Z
DTEND:20140712T140000Z
X-MICROSOFT-CDO-ALLDAYEVENT:FALSE
SUMMARY:FAMILY CONCERT: Bohemian Quartet
DESCRIPTION:The Bohemian Quartet was formed in 2005 by violinist and conductor Stan Renard with the idea of preserving the tradition\, and indulging in the virtuosic playing style\, of Romany\, or ''Gypsy'' music\, along with related Eastern European folk styles.   Together they have made a commitment to the genre\, and continuously aspire to perform it with both reverence and adventure. The group has a passion for the deep-rooted authenticity of the Romany tradition\, as well as the ability to play this historic repertoire with extraordinary joie de vivre. Free\, no tickets required.
X-ALT-DESC;FMTTYPE=text/html:The Bohemian Quartet was formed in 2005 by violinist and conductor Stan Renard with the idea of preserving the tradition\, and indulging in the virtuosic playing style\, of Romany\, or ''Gypsy'' music\, along with related Eastern European folk styles.   Together they have made a commitment to the genre\, and continuously aspire to perform it with both reverence and adventure. The group has a passion for the deep-rooted authenticity of the Romany tradition\, as well as the ability to play this historic repertoire with extraordinary joie de vivre. Free\, no tickets required.
LOCATION:Shalin Liu Performance Center\, Rockport\, Ma 01966
UID:e.2981.1274
SEQUENCE:3
DTSTAMP:20260419T144624Z
URL:https://visit.rockportusa.com/events/details/family-concert-bohemian-quartet-07-12-2014-1274
END:VEVENT

END:VCALENDAR
