BEGIN:VCALENDAR
VERSION:2.0
PRODID:-//ChamberMaster//Event Calendar 2.0//EN
METHOD:PUBLISH
X-PUBLISHED-TTL:P3D
REFRESH-INTERVAL:P3D
CALSCALE:GREGORIAN
BEGIN:VEVENT
DTSTART:20140725T223000Z
DTEND:20140726T003000Z
X-MICROSOFT-CDO-ALLDAYEVENT:FALSE
SUMMARY:Fabulous Fridays: Concerts by the Sea (Henry Allen and the New Swingset)
DESCRIPTION:A summer Friday evening concert is the perfect ending to a long week.  Enjoy our first-ever concert series\, with Gloucester-based artists\, focusing on early American 20th century music with Celtic and Scottish origins as well as favorites from American singer-songwriters such as Cole Porter. The Beauport gardens overlooking the Gloucester Harbor provide a tranquil and beautiful setting for this series of early-evening performances.  Chairs and refreshments are provided. Come between 5 & 5:30 to enjoy an abbreviated house tour.\n\n$20 Historic New England members\, $30 nonmembers
X-ALT-DESC;FMTTYPE=text/html:A summer Friday evening concert is the perfect ending to a long week.  Enjoy our first-ever concert series\, with Gloucester-based artists\, focusing on early American 20th century music with Celtic and Scottish origins as well as favorites from American singer-songwriters such as Cole Porter. The Beauport gardens overlooking the Gloucester Harbor provide a tranquil and beautiful setting for this series of early-evening performances.  Chairs and refreshments are provided. Come between 5 & 5:30 to enjoy an abbreviated house tour.\n\n$20 Historic New England members\, $30 nonmembers
LOCATION:75 Eastern Point Blvd.\, Gloucester \, MA 01930 Take Route I-95/128 north to the end. At second set of lights after the second rotary\, take East Main Street 1.5 miles\, approximately eight minutes\, to the stone pillars at the entrance to Eastern Point Boulevard. Proceed through the pillars and follow Eastern Point Boulevard .5 mile to Beauport. Parking: The Beauport parking lot is across the street from the house.
UID:e.2981.1335
SEQUENCE:3
DTSTAMP:20260419T150113Z
URL:https://visit.rockportusa.com/events/details/fabulous-fridays-concerts-by-the-sea-henry-allen-and-the-new-swingset-07-25-2014-1335
END:VEVENT

END:VCALENDAR
