BEGIN:VCALENDAR
VERSION:2.0
PRODID:-//ChamberMaster//Event Calendar 2.0//EN
METHOD:PUBLISH
X-PUBLISHED-TTL:P3D
REFRESH-INTERVAL:P3D
CALSCALE:GREGORIAN
BEGIN:VEVENT
DTSTART:20140505T180000Z
DTEND:20140505T200000Z
X-MICROSOFT-CDO-ALLDAYEVENT:FALSE
SUMMARY:Essex Greenbelt Wildflower Walk
DESCRIPTION:Join Greenbelt and the Manchester-Essex Conservation Trust for a vernal adventure.  Every spring\, nature offers a short\, but exciting\, treat in our protected local woodlands. Erika Sonder\, expert botanist\, will lead a group along the paths in the Warren-Weld Woodland in search of tiny wildflowers such as Wood Anenome\, Bunchberry and Canada Mayflower. Erika's sharp eyes are sure to spot other treasures as the wetlands and woodlands in this area provide a variety of soils and exposures for plant diversity.\nSpace is limited to 15 people\, so please RSVP to the Essex County Greenbelt Association early. Erika's guided walks are very popular.
X-ALT-DESC;FMTTYPE=text/html:Join Greenbelt and the Manchester-Essex Conservation Trust for a vernal adventure.  Every spring\, nature offers a short\, but exciting\, treat in our protected local woodlands. Erika Sonder\, expert botanist\, will lead a group along the paths in the Warren-Weld Woodland in search of tiny wildflowers such as Wood Anenome\, Bunchberry and Canada Mayflower. Erika's sharp eyes are sure to spot other treasures as the wetlands and woodlands in this area provide a variety of soils and exposures for plant diversity.\nSpace is limited to 15 people\, so please RSVP to the Essex County Greenbelt Association early. Erika's guided walks are very popular. \n
LOCATION:Apple Street\, Conomo Drive\, Essex\, MA 01929 From Route 128: Take Exit 15\, School Street\, north toward Essex 2.2 miles until you see Bothways Farm on the right\, with a cluster of farm buildings at the top of the hill and a small duck pond near the road. Turn left onto Apple Street and follow for 0.6 mile. From Route 133 in Essex Center: Drive toward Route 128 on Southern Avenue. After 0.9 mile\, you will see Bothways Farm on the left\, with a cluster of farm buildings at the top of the hill and a small duck pond near the road. Make a sharp right onto Apple Street and follow for 0.6 mile.
UID:e.2981.1213
SEQUENCE:3
DTSTAMP:20260419T201559Z
URL:https://visit.rockportusa.com/events/details/essex-greenbelt-wildflower-walk-05-05-2014-1213
END:VEVENT

END:VCALENDAR
