BEGIN:VCALENDAR
VERSION:2.0
PRODID:-//ChamberMaster//Event Calendar 2.0//EN
METHOD:PUBLISH
X-PUBLISHED-TTL:P3D
REFRESH-INTERVAL:P3D
CALSCALE:GREGORIAN
BEGIN:VEVENT
DTSTART:20140228T123000Z
DTEND:20140228T140000Z
X-MICROSOFT-CDO-ALLDAYEVENT:FALSE
SUMMARY:Economic Outlook Membership Breakfast
DESCRIPTION:Join us on February 28th for our Economic Outlook Membership Breakfast featuring Barry Bluestone!Mr. Bluestone will provide the latest forecasts on economic growth and employment prospects for the Commonwealth. Then\, he will discuss his latest research results on successful economic development\; "How to Win Friends and Spur Economic Prosperity".  His talk will present the latest findings on what factors make it possible for cities and towns to attract investment and jobs\; conducted while at the Boston Federal Reserve Bank where he is a visiting scholar this year.
X-ALT-DESC;FMTTYPE=text/html:<p><span itemprop="description"><span class="fsl"></span></span></p><p><span itemprop="description"><span class="fsl">Join us on February 28th for our Economic Outlook Membership Breakfast featuring Barry Bluestone!</span></span></p><p><span>Mr. Bluestone will provide the latest forecasts on economic growth and employment prospects for the Commonwealth. Then\, he will discuss his latest research results on successful economic development\; &ldquo\;How to Win Friends and Spur Economic Prosperity&rdquo\;.&nbsp\; His talk will present the latest findings on what factors make it possible for cities and towns to attract investment and jobs\; conducted while at the Boston Federal Reserve Bank where he is a visiting scholar this year.</span></p>
LOCATION:Cruiseport Gloucester 6 Rowe Square\, Gloucester\, MA 01930
UID:e.2981.1193
SEQUENCE:3
DTSTAMP:20260419T231316Z
URL:https://visit.rockportusa.com/events/details/economic-outlook-membership-breakfast-02-28-2014-1193
END:VEVENT

END:VCALENDAR
