BEGIN:VCALENDAR
VERSION:2.0
PRODID:-//ChamberMaster//Event Calendar 2.0//EN
METHOD:PUBLISH
X-PUBLISHED-TTL:P3D
REFRESH-INTERVAL:P3D
CALSCALE:GREGORIAN
BEGIN:VEVENT
DTSTART:20140816T000000Z
DTEND:20140816T000000Z
X-MICROSOFT-CDO-ALLDAYEVENT:FALSE
SUMMARY:Donal Fox
DESCRIPTION:A former Guggenheim fellow\, composer/pianist Donal Fox expertly fuses jazz\, classical and Afro-Cuban rhythms. His intricate compositions and dizzying improvisations could recall Thelonious Monk one moment and Bach the next while creating his own wholly unique approach to music. Tickets: $52/$41/$31
X-ALT-DESC;FMTTYPE=text/html:A former Guggenheim fellow\, composer/pianist Donal Fox expertly fuses jazz\, classical and Afro-Cuban rhythms. His intricate compositions and dizzying improvisations could recall Thelonious Monk one moment and Bach the next while creating his own wholly unique approach to music. Tickets: $52/$41/$31
LOCATION:Shalin Liu Performance Center\, Rockport\, Ma 01966
UID:e.2981.1231
SEQUENCE:3
DTSTAMP:20260419T130418Z
URL:https://visit.rockportusa.com/events/details/donal-fox-08-15-2014-1231
END:VEVENT

END:VCALENDAR
