BEGIN:VCALENDAR
VERSION:2.0
PRODID:-//ChamberMaster//Event Calendar 2.0//EN
METHOD:PUBLISH
X-PUBLISHED-TTL:P3D
REFRESH-INTERVAL:P3D
CALSCALE:GREGORIAN
BEGIN:VEVENT
DTSTART:20130915T150000Z
DTEND:20130915T190000Z
X-MICROSOFT-CDO-ALLDAYEVENT:FALSE
SUMMARY:Dog Day!
DESCRIPTION:Join dog lovers of all ages at Cape Ann Animal Aid's 10th Annual Dog Day on Sunday\, September 15th\, 2013 at Stage Fort Park from 11am to 3pm. This popular celebration of all things canine features a craft and vendor fair\, raffles\, food and refreshments\, activities\, photo opportunities\, doggy nail trimming\, giant bouncy house for the kids\, doggy agility course\, animal tarot card readings\, demonstrations\, and more! \n\nDog Day is free to attend and licensed and vaccinated dogs are welcome. There is a $10 participation fee per dog for dog activities. The first 50 participants receive a free Dog Day t-shirt. All proceeds benefit Cape Ann Animal Aid. For more information\, visit www.CapeAnnAnimalAid.com or call 978-283-6055.
X-ALT-DESC;FMTTYPE=text/html:Join dog lovers of all ages at Cape Ann Animal Aid's 10th Annual Dog Day on Sunday\, September 15th\, 2013 at Stage Fort Park from 11am to 3pm. This popular celebration of all things canine features a craft and vendor fair\, raffles\, food and refreshments\, activities\, photo opportunities\, doggy nail trimming\, giant bouncy house for the kids\, doggy agility course\, animal tarot card readings\, demonstrations\, and more! \n\nDog Day is free to attend and licensed and vaccinated dogs are welcome. There is a $10 participation fee per dog for dog activities. The first 50 participants receive a free Dog Day t-shirt. All proceeds benefit Cape Ann Animal Aid. For more information\, visit www.CapeAnnAnimalAid.com or call 978-283-6055.\n
LOCATION:Hough Ave.\, Gloucester\, MA 01930 Stage Fort Park\, Gloucester\, MA
UID:e.2981.1053
SEQUENCE:3
DTSTAMP:20260420T073419Z
URL:https://visit.rockportusa.com/events/details/dog-day-09-15-2013-1053
END:VEVENT

END:VCALENDAR
