BEGIN:VCALENDAR
VERSION:2.0
PRODID:-//ChamberMaster//Event Calendar 2.0//EN
METHOD:PUBLISH
X-PUBLISHED-TTL:P3D
REFRESH-INTERVAL:P3D
CALSCALE:GREGORIAN
BEGIN:VEVENT
DTSTART:20131108T130000Z
DTEND:20131108T130000Z
X-MICROSOFT-CDO-ALLDAYEVENT:FALSE
SUMMARY:Dental Day to Help the Strays
DESCRIPTION:On Friday\, November 8\, 2013\, Harbor Cove Dental at 123 Main St.\, Gloucester is hosting Dental Day to Help the Strays. Teeth cleanings and teeth whitenings will be offered (for humans only) and 100% of the proceeds will be donated to Cape Ann Animal Aid to benefit the dental care of shelter animals in need. Dental Day will also feature a guest appearance by the tooth fairy and tarot card readings by Mistitarot. This event is by appointment only and space is limited. Call 978-865-3360 for more information about costs/accepted insurance plans or to make an appointment.
X-ALT-DESC;FMTTYPE=text/html:On Friday\, November 8\, 2013\, Harbor Cove Dental at 123 Main St.\, Gloucester is hosting Dental Day to Help the Strays. Teeth cleanings and teeth whitenings will be offered (for humans only) and 100% of the proceeds will be donated to Cape Ann Animal Aid to benefit the dental care of shelter animals in need. Dental Day will also feature a guest appearance by the tooth fairy and tarot card readings by Mistitarot. This event is by appointment only and space is limited. Call 978-865-3360 for more information about costs/accepted insurance plans or to make an appointment. 
LOCATION:123 Main Street\, Gloucester\, MA 01930 Harbor Cove Dental
UID:e.2981.1151
SEQUENCE:3
DTSTAMP:20260420T041343Z
URL:https://visit.rockportusa.com/events/details/dental-day-to-help-the-strays-11-08-2013-1151
END:VEVENT

END:VCALENDAR
