BEGIN:VCALENDAR
VERSION:2.0
PRODID:-//ChamberMaster//Event Calendar 2.0//EN
METHOD:PUBLISH
X-PUBLISHED-TTL:P3D
REFRESH-INTERVAL:P3D
CALSCALE:GREGORIAN
BEGIN:VEVENT
DTSTART:20140720T210000Z
DTEND:20140720T210000Z
X-MICROSOFT-CDO-ALLDAYEVENT:FALSE
SUMMARY:Del McCoury Band
DESCRIPTION:Del McCoury is a living legend\, a bluegrass icon that has managed to stay relevant\, fresh and inspired throughout his 52 year career. Owning one of the most recognizable high lonesome tenors in bluegrass history\, McCoury and his band have been one of the driving forces in the current bluegrass revival.
X-ALT-DESC;FMTTYPE=text/html:Del McCoury is a living legend\, a bluegrass icon that has managed to stay relevant\, fresh and inspired throughout his 52 year career. Owning one of the most recognizable high lonesome tenors in bluegrass history\, McCoury and his band have been one of the driving forces in the current bluegrass revival. 
LOCATION:37 Main Street\, Rockport\, MA 01966 Shalin Liu Performance Center
UID:e.2981.1322
SEQUENCE:3
DTSTAMP:20260419T162754Z
URL:https://visit.rockportusa.com/events/details/del-mccoury-band-07-20-2014-1322
END:VEVENT

END:VCALENDAR
