BEGIN:VCALENDAR
VERSION:2.0
PRODID:-//ChamberMaster//Event Calendar 2.0//EN
METHOD:PUBLISH
X-PUBLISHED-TTL:P3D
REFRESH-INTERVAL:P3D
CALSCALE:GREGORIAN
BEGIN:VEVENT
DTSTART:20140609T000000Z
DTEND:20140609T000000Z
X-MICROSOFT-CDO-ALLDAYEVENT:FALSE
SUMMARY:David Finckel\, cello & Wu Han\, piano
DESCRIPTION:Named Musical America's 2012 Musicians of the Year\, cellist David Finckel and pianist Wu Han rank among the most esteemed and influential classical musicians in the world today. In addition to their extensive performance and recording activities\, their roles as educators\, organizational leaders\, and cultural entrepreneurs place them among the classical music community's most prominent innovators. Tickets: $78/$65/$45
X-ALT-DESC;FMTTYPE=text/html:Named Musical America's 2012 Musicians of the Year\, cellist David Finckel and pianist Wu Han rank among the most esteemed and influential classical musicians in the world today. In addition to their extensive performance and recording activities\, their roles as educators\, organizational leaders\, and cultural entrepreneurs place them among the classical music community's most prominent innovators. Tickets: $78/$65/$45
LOCATION:Shalin Liu Performance Center\, Rockport\, Ma 01966
UID:e.2981.1257
SEQUENCE:3
DTSTAMP:20260419T182051Z
URL:https://visit.rockportusa.com/events/details/david-finckel-cello-wu-han-piano-06-08-2014-1257
END:VEVENT

END:VCALENDAR
