BEGIN:VCALENDAR
VERSION:2.0
PRODID:-//ChamberMaster//Event Calendar 2.0//EN
METHOD:PUBLISH
X-PUBLISHED-TTL:P3D
REFRESH-INTERVAL:P3D
CALSCALE:GREGORIAN
BEGIN:VEVENT
DTSTART:20140815T000000Z
DTEND:20140815T000000Z
X-MICROSOFT-CDO-ALLDAYEVENT:FALSE
SUMMARY:Cyrille Aimee
DESCRIPTION:Winner of the Montreux and Sarah Vaughan International Vocal Competitions\, the dynamic young Cyrille Aimée brings an exotic\, highly rhythmic-based approach to jazz singing\, incorporating a Gallic gypsy swing with hints of salsa and samba into well-worn standards and original compositions. Tickets: $52/$41/$31
X-ALT-DESC;FMTTYPE=text/html:Winner of the Montreux and Sarah Vaughan International Vocal Competitions\, the dynamic young Cyrille Aimée brings an exotic\, highly rhythmic-based approach to jazz singing\, incorporating a Gallic gypsy swing with hints of salsa and samba into well-worn standards and original compositions. Tickets: $52/$41/$31
LOCATION:Shalin Liu Performance Center\, Rockport\, Ma 01966
UID:e.2981.1281
SEQUENCE:3
DTSTAMP:20260419T130515Z
URL:https://visit.rockportusa.com/events/details/cyrille-aimee-08-14-2014-1281
END:VEVENT

END:VCALENDAR
