BEGIN:VCALENDAR
VERSION:2.0
PRODID:-//ChamberMaster//Event Calendar 2.0//EN
METHOD:PUBLISH
X-PUBLISHED-TTL:P3D
REFRESH-INTERVAL:P3D
CALSCALE:GREGORIAN
BEGIN:VEVENT
DTSTART:20131030T130000Z
DTEND:20131030T143000Z
X-MICROSOFT-CDO-ALLDAYEVENT:FALSE
SUMMARY:Coffee & Connections featuring Massachusetts Office of Travel and Tourism Director Betsy Wall
DESCRIPTION:Join the Cape Ann Chamber of Commerce's Tourism Council on Wednesday\, October 30th from 9:00am -10:30am at Rockport Inn & Suites for a special Coffee & Connections featuring Massachusetts Office of Travel and Toursim Director Betsy Wall.  This event will include a presentation on the Commonwealth's Tourism Marketing Program by Ms.Wall.  Enjoy a chance to network with the Tourism Council\, Chamber members and meet Betsy Wall. \n\n\n\nCoffee & light breakfast refreshements will be provided.  Event is complimentary\; however pre-registration is required.
X-ALT-DESC;FMTTYPE=text/html:<br />\nJoin&nbsp\;the Cape Ann Chamber of Commerce's Tourism Council on&nbsp\;Wednesday\, October 30th from 9:00am -10:30am at Rockport Inn &amp\; Suites for a special Coffee &amp\; Connections featuring Massachusetts Office of Travel and Toursim Director Betsy Wall.&nbsp\; This event will include a presentation on the Commonwealth&rsquo\;s Tourism Marketing Program by Ms.Wall.&nbsp\; Enjoy a chance to network with&nbsp\;the Tourism Council\, Chamber members and meet Betsy Wall.&nbsp\;<br />\n<br />\nCoffee &amp\; light breakfast refreshements will be provided.&nbsp\; Event is complimentary\; however pre-registration is required.
LOCATION:183 Main Street\, Rockport\, MA 01966
UID:e.2981.1136
SEQUENCE:3
DTSTAMP:20260420T055439Z
URL:https://visit.rockportusa.com/events/details/coffee-connections-featuring-massachusetts-office-of-travel-and-tourism-director-betsy-wall-10-30-2013-1136
END:VEVENT

END:VCALENDAR
