BEGIN:VCALENDAR
VERSION:2.0
PRODID:-//ChamberMaster//Event Calendar 2.0//EN
METHOD:PUBLISH
X-PUBLISHED-TTL:P3D
REFRESH-INTERVAL:P3D
CALSCALE:GREGORIAN
BEGIN:VEVENT
DTSTART:20140207T000000Z
DTEND:20140207T000000Z
X-MICROSOFT-CDO-ALLDAYEVENT:FALSE
SUMMARY:Classical Jam
DESCRIPTION:Classical Jam will perform a multimedia presentation with music from Brahms to the present accompanied by videos--featuring films by Buster Keaton\, former Rockport resident Danny Williams (a colleague of Andy Warhol in the Velvet Underground era)\, and a film by Rockport students.\n\nClassical Jam--a vibrant ensemble of flute\, percussion\, violin\, viola\, and cello—best known for its engaging and lively presentations with thought-provoking concert themes presenting music from the Renaissance to traditional classical works in a new way. The award-winning and internationally performing members are graduates of the Julliard School\, Oberlin Conservatory of Music\, New England Conservatory\, and Indiana University and are teaching artists at leading educational institutions.\nFree\, No tickets required.
X-ALT-DESC;FMTTYPE=text/html:Classical Jam will perform a multimedia presentation with music from Brahms to the present accompanied by videos--featuring films by Buster Keaton\, former Rockport resident Danny Williams (a colleague of Andy Warhol in the Velvet Underground era)\, and a film by Rockport students.\n\nClassical Jam--a vibrant ensemble of flute\, percussion\, violin\, viola\, and cello—best known for its engaging and lively presentations with thought-provoking concert themes presenting music from the Renaissance to traditional classical works in a new way. The award-winning and internationally performing members are graduates of the Julliard School\, Oberlin Conservatory of Music\, New England Conservatory\, and Indiana University and are teaching artists at leading educational institutions.\nFree\, No tickets required.\n
LOCATION:Shalin Liu Performance Center\, Rockport\, MA 01966 Travelling by Car: Rockport is 45 miles from downtown Boston. Drive north on Route 128 (through two rotaries) to the traffic light in Gloucester. At the traffic light\, turn left onto Route 127. Drive 4 miles to Rockport. Continue through “Five Corners” onto Route 127A (Broadway) toward the harbor. It’s a slight vere to the right. At the stop sign at Mt. Pleasant Street (lighthouse in median)\, turn left and then bear left onto Main Street. The Shalin Liu Performance Center is on the right at 37 Main Street. Travelling by Train: Rockport is accessible by commuter rail from Boston and other Northshore towns. The commuter rail originates from North Station on the Green line in Boston. The train station is ½ mile walk to the concert hall. Walking Directions from Rockport Train Station: Leave Rockport Commuter Rail Station and turn left onto Railroad Avenue. Turn right onto King Street for and then turn right onto Beach Street (Atlantic Ocean and Front Beach on other side of Beach Street). Follow Beach Street and the Shalin Liu Performance Center will be on your left after you’ve merged onto Main Street. The Congregational Church is across the street.
UID:e.2981.1074
SEQUENCE:3
DTSTAMP:20260419T230928Z
URL:https://visit.rockportusa.com/events/details/classical-jam-02-06-2014-1074
END:VEVENT

END:VCALENDAR
