BEGIN:VCALENDAR
VERSION:2.0
PRODID:-//ChamberMaster//Event Calendar 2.0//EN
METHOD:PUBLISH
X-PUBLISHED-TTL:P3D
REFRESH-INTERVAL:P3D
CALSCALE:GREGORIAN
BEGIN:VEVENT
DTSTART:20140707T230000Z
DTEND:20140707T230000Z
X-MICROSOFT-CDO-ALLDAYEVENT:FALSE
SUMMARY:Clash of the Wolves
DESCRIPTION:Silent Movie Night featuring Rin Tin Tin in the 1924 film Clash of the Wolves with introductory remarks and live piano accompaniment by renowned film-music expert Martin Marks.  Free\, no tickets required.
X-ALT-DESC;FMTTYPE=text/html:Silent Movie Night featuring Rin Tin Tin in the 1924 film Clash of the Wolves with introductory remarks and live piano accompaniment by renowned film-music expert Martin Marks.  Free\, no tickets required.
LOCATION:Shalin Liu Performance Center\, Rockport\, Ma 01966
UID:e.2981.1272
SEQUENCE:3
DTSTAMP:20260419T144228Z
URL:https://visit.rockportusa.com/events/details/clash-of-the-wolves-07-07-2014-1272
END:VEVENT

END:VCALENDAR
