BEGIN:VCALENDAR
VERSION:2.0
PRODID:-//ChamberMaster//Event Calendar 2.0//EN
METHOD:PUBLISH
X-PUBLISHED-TTL:P3D
REFRESH-INTERVAL:P3D
CALSCALE:GREGORIAN
BEGIN:VEVENT
DTSTART:20140627T000000Z
DTEND:20140627T000000Z
X-MICROSOFT-CDO-ALLDAYEVENT:FALSE
SUMMARY:Claremont Trio
DESCRIPTION:Lauded as ''one of America's finest young chamber groups\,'' (Strad Magazine) the Claremont Trio is first winner of the Kalichstein-Laredo-Robinson International Trio Award and the only piano trio ever to win the Young Concert Artists International Auditions. Tickets: $58/$48/$39
X-ALT-DESC;FMTTYPE=text/html:Lauded as ''one of America's finest young chamber groups\,'' (Strad Magazine) the Claremont Trio is first winner of the Kalichstein-Laredo-Robinson International Trio Award and the only piano trio ever to win the Young Concert Artists International Auditions. Tickets: $58/$48/$39
LOCATION:Shalin Liu Performance Center\, Rockport\, Ma 01966
UID:e.2981.1255
SEQUENCE:3
DTSTAMP:20260419T181748Z
URL:https://visit.rockportusa.com/events/details/claremont-trio-06-26-2014-1255
END:VEVENT

END:VCALENDAR
