BEGIN:VCALENDAR
VERSION:2.0
PRODID:-//ChamberMaster//Event Calendar 2.0//EN
METHOD:PUBLISH
X-PUBLISHED-TTL:P3D
REFRESH-INTERVAL:P3D
CALSCALE:GREGORIAN
BEGIN:VEVENT
DTSTART:20140817T230000Z
DTEND:20140817T230000Z
X-MICROSOFT-CDO-ALLDAYEVENT:FALSE
SUMMARY:Christian McBride
DESCRIPTION:One of the most exciting jazz artists of the modern era\, bassist Christian McBride has redefined both his instrument and the perceived boundaries of jazz itself. Unafraid to dip his toes into R&B\, funk\, pop\, fusion or big band\, McBride's massive technical and compositional skills have launched him into the rarified air of bonafide jazz masters.  Tickets: $68/$58/$49
X-ALT-DESC;FMTTYPE=text/html:One of the most exciting jazz artists of the modern era\, bassist Christian McBride has redefined both his instrument and the perceived boundaries of jazz itself. Unafraid to dip his toes into R&B\, funk\, pop\, fusion or big band\, McBride's massive technical and compositional skills have launched him into the rarified air of bonafide jazz masters.  Tickets: $68/$58/$49
LOCATION:Shalin Liu Performance Center\, Rockport\, Ma 01966
UID:e.2981.1259
SEQUENCE:3
DTSTAMP:20260419T130434Z
URL:https://visit.rockportusa.com/events/details/christian-mcbride-08-17-2014-1259
END:VEVENT

END:VCALENDAR
