BEGIN:VCALENDAR
VERSION:2.0
PRODID:-//ChamberMaster//Event Calendar 2.0//EN
METHOD:PUBLISH
X-PUBLISHED-TTL:P3D
REFRESH-INTERVAL:P3D
CALSCALE:GREGORIAN
BEGIN:VEVENT
DTSTART:20140531T130000Z
DTEND:20140531T190000Z
X-MICROSOFT-CDO-ALLDAYEVENT:FALSE
SUMMARY:Children's Hospital Blood Drive
DESCRIPTION:The Children's Hospital Bloodmobile will be visiting Gloucester on Saturday\, May 31st for a Blood Drive!\nAll donors will receive a free treat from the Wally's Blackburn Bistro pastry case.
X-ALT-DESC;FMTTYPE=text/html:The Children's Hospital Bloodmobile will be visiting Gloucester on Saturday\, May 31st for a Blood Drive!\nAll donors will receive a free treat from the Wally's Blackburn Bistro pastry case.
LOCATION:Wally's Blackburn Bistro\, Gloucester\, MA 01930 Take Route 128 to the Blackburn Traffic Circle and enter the Blackburn Industrial Park on the North Side of the circle (opposite Gloucester Crossing). Turn Right at the Cape Ann Medical Center on to Blackburn Drive. The Blackburn Center Building is on your right immediately after Intershell (approximately 1/4 Mile).
UID:e.2981.1316
SEQUENCE:3
DTSTAMP:20260419T182326Z
URL:https://visit.rockportusa.com/events/details/children-s-hospital-blood-drive-05-31-2014-1316
END:VEVENT

END:VCALENDAR
