BEGIN:VCALENDAR
VERSION:2.0
PRODID:-//ChamberMaster//Event Calendar 2.0//EN
METHOD:PUBLISH
X-PUBLISHED-TTL:P3D
REFRESH-INTERVAL:P3D
CALSCALE:GREGORIAN
BEGIN:VEVENT
DTSTART:20140614T000000Z
DTEND:20140614T000000Z
X-MICROSOFT-CDO-ALLDAYEVENT:FALSE
SUMMARY:Charlie Albright\, piano
DESCRIPTION:Winner of the prestigious 2010 Gilmore Young Artist Award and the 2009 Young Concert Artists International Auditions\, pianist Charlie Albright is hailed by the Washington Post as\, ''among the most gifted musicians of his generation'' and the New York Times for his ''jaw-dropping technique and virtuosity meshed with a distinctive musicality.''  Tickets: $52/$41/$31
X-ALT-DESC;FMTTYPE=text/html:Winner of the prestigious 2010 Gilmore Young Artist Award and the 2009 Young Concert Artists International Auditions\, pianist Charlie Albright is hailed by the Washington Post as\, ''among the most gifted musicians of his generation'' and the New York Times for his ''jaw-dropping technique and virtuosity meshed with a distinctive musicality.''  Tickets: $52/$41/$31
LOCATION:Shalin Liu Performance Center\, Rockport\, Ma 01966
UID:e.2981.1282
SEQUENCE:3
DTSTAMP:20260419T182026Z
URL:https://visit.rockportusa.com/events/details/charlie-albright-piano-06-13-2014-1282
END:VEVENT

END:VCALENDAR
