BEGIN:VCALENDAR
VERSION:2.0
PRODID:-//ChamberMaster//Event Calendar 2.0//EN
METHOD:PUBLISH
X-PUBLISHED-TTL:P3D
REFRESH-INTERVAL:P3D
CALSCALE:GREGORIAN
BEGIN:VEVENT
DTSTART:20140830T190000Z
DTEND:20140830T190000Z
X-MICROSOFT-CDO-ALLDAYEVENT:FALSE
SUMMARY:Capitol Steps
DESCRIPTION:Political satire gets a musical makeover with the uproarious comedy troupe Capitol Steps.  Adapting familiar pop hits to skewer both sides of the political spectrum\, the Capitol Steps revel in sardonic songs\, side-splitting puns and over-the-top impersonations. No one is safe. Tickets: $78/$65/$45
X-ALT-DESC;FMTTYPE=text/html:Political satire gets a musical makeover with the uproarious comedy troupe Capitol Steps.  Adapting familiar pop hits to skewer both sides of the political spectrum\, the Capitol Steps revel in sardonic songs\, side-splitting puns and over-the-top impersonations. No one is safe. Tickets: $78/$65/$45
LOCATION:Shalin Liu Performance Center\, Rockport\, Ma 01966
UID:e.2981.1262
SEQUENCE:3
DTSTAMP:20260419T130357Z
URL:https://visit.rockportusa.com/events/details/capitol-steps-08-30-2014-1262
END:VEVENT

END:VCALENDAR
