BEGIN:VCALENDAR
VERSION:2.0
PRODID:-//ChamberMaster//Event Calendar 2.0//EN
METHOD:PUBLISH
X-PUBLISHED-TTL:P3D
REFRESH-INTERVAL:P3D
CALSCALE:GREGORIAN
BEGIN:VEVENT
DTSTART;VALUE=DATE:20131020
DTEND;VALUE=DATE:20131026
TRANSP:TRANSPARENT
X-MICROSOFT-CDO-ALLDAYEVENT:TRUE
SUMMARY:Cape Ann Fall Restaurant Week
DESCRIPTION:Cape Ann Fall Restaurant Week is back! For six days\, each participating restaurant will offer a prix fixe three-course dinner menu for $33.13 or $25.13 (not including beverage\, tax or gratuity). \n\n\n\nAs a participating business\, you may choose to offer one or both of the palate pleasing price packages to your customers. Dinner will include an appetizer or salad\, entr e\, and dessert. Your special Restaurant Week menu should offer three entr e choices and reflect the high standards of your everyday menu. \n\n\n\nTo download the Restaurant vendor form please click here!
X-ALT-DESC;FMTTYPE=text/html:<p style="margin: 0in -1.25pt 10pt 0in\;"><span style="font-size: 10.5pt\; font-family: calibri\; line-height: 115%\;"><br />\nCape Ann Fall Restaurant Week is back! For six days\, each participating restaurant will offer a prix fixe three-course dinner menu for $33.13 or $25.13 (not including beverage\, tax or gratuity). <br />\n<br />\nAs a participating business\, you may choose to offer one or both of the palate pleasing price packages to your customers. Dinner will include an appetizer o<i>r</i> salad\, entr&eacute\;e\, and dessert. Your special Restaurant Week menu should offer three entr&eacute\;e choices and reflect the high standards of your everyday menu. <br />\n<br />\nTo download the Restaurant vendor form please <a href="http://capeannchamber.com/wp-content/uploads/2013-Fall-Restaurant-Week-Registration-Form.pdf" target="_blank">click here!</a><br />\n<br />\n</span></p>
LOCATION:
UID:e.2981.1037
SEQUENCE:3
DTSTAMP:20260420T054745Z
URL:https://visit.rockportusa.com/events/details/cape-ann-fall-restaurant-week-10-20-2013-1037
END:VEVENT

END:VCALENDAR
