BEGIN:VCALENDAR
VERSION:2.0
PRODID:-//ChamberMaster//Event Calendar 2.0//EN
METHOD:PUBLISH
X-PUBLISHED-TTL:P3D
REFRESH-INTERVAL:P3D
CALSCALE:GREGORIAN
BEGIN:VEVENT
DTSTART:20131217T220000Z
DTEND:20131218T000000Z
X-MICROSOFT-CDO-ALLDAYEVENT:FALSE
SUMMARY:Cape Ann Chamber of Commerce Holiday Party
DESCRIPTION:Join us for the Cape Ann Chamber Holiday Party! Enjoy festive music\, appetizers\, and beverages while you mix and mingle with one another celebrating the holiday season!
X-ALT-DESC;FMTTYPE=text/html:<p align="LEFT"></p><p align="LEFT">Join us for the Cape Ann Chamber Holiday Party! Enjoy festive music\, appetizers\, and beverages while you mix and mingle with one another celebrating the holiday season!</p>
LOCATION:Cape Ann Chamber of Commerce 33 Commercial Street\, Gloucester\, MA 01930
UID:e.2981.1154
SEQUENCE:3
DTSTAMP:20260420T041413Z
URL:https://visit.rockportusa.com/events/details/cape-ann-chamber-of-commerce-holiday-party-12-17-2013-1154
END:VEVENT

END:VCALENDAR
